
BEGIN:VCALENDAR
VERSION:2.0
PRODID:-//Become The Change - ECPv5.16.2.1//NONSGML v1.0//EN
CALSCALE:GREGORIAN
METHOD:PUBLISH
X-WR-CALNAME:Become The Change
X-ORIGINAL-URL:https://becomethechange.co
X-WR-CALDESC:Events for Become The Change
REFRESH-INTERVAL;VALUE=DURATION:PT1H
X-Robots-Tag:noindex
X-PUBLISHED-TTL:PT1H
BEGIN:VTIMEZONE
TZID:Europe/Madrid
BEGIN:DAYLIGHT
TZOFFSETFROM:+0100
TZOFFSETTO:+0200
TZNAME:CEST
DTSTART:20240331T010000
END:DAYLIGHT
BEGIN:STANDARD
TZOFFSETFROM:+0200
TZOFFSETTO:+0100
TZNAME:CET
DTSTART:20241027T010000
END:STANDARD
END:VTIMEZONE
BEGIN:VEVENT
DTSTART;TZID=Europe/Madrid:20241002T203000
DTEND;TZID=Europe/Madrid:20241002T220000
DTSTAMP:20260423T211650
CREATED:20240828T093631Z
LAST-MODIFIED:20240828T093631Z
UID:11327-1727901000-1727906400@becomethechange.co
SUMMARY:NEW MOON CACAO QIGONG & YOGA NIDRA - IBIZA
DESCRIPTION:Embrace the energy of the New Moon. A powerful time to surrender to the natural flow of life and renew your energy with gentle movements of qigong.\nConnect to your heart and fully let go of anything that is no longer serving you with the Cacao.\nEnding with a Yoga Nidra Meditation to Set Intentions. \nBook here
URL:https://becomethechange.co/event/new-moon-cacao-qigong-yoga-nidra-ibiza/
CATEGORIES:In Person
ATTACH;FMTTYPE=image/jpeg:https://becomethechange.co/wp-content/uploads/2022/09/New-Moon-Image-scaled.jpg
END:VEVENT
BEGIN:VEVENT
DTSTART;TZID=Europe/Madrid:20241009T100000
DTEND;TZID=Europe/Madrid:20241009T110000
DTSTAMP:20260423T211650
CREATED:20240828T092605Z
LAST-MODIFIED:20240828T092605Z
UID:11323-1728468000-1728471600@becomethechange.co
SUMMARY:QIGONG OUTDOORS - IBIZA
DESCRIPTION:Join us surrounded by nature!\nQigong can be described as the sunrise and sunset of exercise!\nWe use the breath\, the body\, and the mind to circulate the energy within us all and connect with the energy around us.\nUsing the power of mindfulness\, gentle flowing movements and deep stretching we will nourish\, nurture and restore all parts of our being.\nClearing areas of tension and releasing blocked energy.\nConnect to your Qi. Be empowered.\nBook here
URL:https://becomethechange.co/event/qigong-outdoors-ibiza-3/
CATEGORIES:In Person
ATTACH;FMTTYPE=image/jpeg:https://becomethechange.co/wp-content/uploads/2023/11/image-008-1.jpg
END:VEVENT
END:VCALENDAR