
BEGIN:VCALENDAR
VERSION:2.0
PRODID:-//Become The Change - ECPv5.16.2.1//NONSGML v1.0//EN
CALSCALE:GREGORIAN
METHOD:PUBLISH
X-ORIGINAL-URL:https://becomethechange.co
X-WR-CALDESC:Events for Become The Change
REFRESH-INTERVAL;VALUE=DURATION:PT1H
X-Robots-Tag:noindex
X-PUBLISHED-TTL:PT1H
BEGIN:VTIMEZONE
TZID:Asia/Dubai
BEGIN:STANDARD
TZOFFSETFROM:+0400
TZOFFSETTO:+0400
TZNAME:+04
DTSTART:20240101T000000
END:STANDARD
TZID:UTC
BEGIN:STANDARD
TZOFFSETFROM:+0000
TZOFFSETTO:+0000
TZNAME:UTC
DTSTART:20240101T000000
END:STANDARD
END:VTIMEZONE
BEGIN:VEVENT
DTSTART;TZID=Asia/Dubai:20240714T110000
DTEND;TZID=Asia/Dubai:20240714T123000
DTSTAMP:20260424T015830
CREATED:20240708T122451Z
LAST-MODIFIED:20240722T095727Z
UID:10968-1720954800-1720960200@becomethechange.co
SUMMARY:CHAKRA BALANCING MEDITATION
DESCRIPTION:Balance your Chakras with an Osho Chakra Breathing Meditation\, It is an active meditation that uses quick\, deep breathing to open and bring awareness\, energy and tranquility to each of the seven main chakras. \nThe meditation is best done on an empty stomach \nSIGN UP HERE
URL:https://becomethechange.co/event/chakra-balancing-meditation/
LOCATION:Just Be Wellbeing Center\, 102 Al Woushar St - Umm Suqeim\, Dubai\, Dubai\, United Arab Emirates
CATEGORIES:In Person
ATTACH;FMTTYPE=image/png:https://becomethechange.co/wp-content/uploads/2024/07/IMG_4951.png
END:VEVENT
BEGIN:VEVENT
DTSTART;TZID=Asia/Dubai:20240720T183000
DTEND;TZID=Asia/Dubai:20240720T200000
DTSTAMP:20260424T015830
CREATED:20240708T120003Z
LAST-MODIFIED:20240708T120003Z
UID:10965-1721500200-1721505600@becomethechange.co
SUMMARY:FULL MOON CACAO CEREMONY & QIGONG
DESCRIPTION:Embrace the radiant glow of the Full Moon and its potent energy along with a powerful blend of ancient practices. \nAwaken your intuition with a ceremonial sip of sacred cacao. Let go of what no longer serves you under the Full Moon’s watchful gaze. \nConnect to your Heart with the Cacao. Enjoy the Power and Grace of Qigong. \nImmerse yourself in a symphony of chimes and drumming and let’s flow through gentle movements of qigong leaving you feeling deeply relaxed and centered. \nSIGN UP HERE
URL:https://becomethechange.co/event/full-moon-cacao-ceremony-qigong/
LOCATION:Just Be Wellbeing Center\, 102 Al Woushar St - Umm Suqeim\, Dubai\, Dubai\, United Arab Emirates
CATEGORIES:In Person
ATTACH;FMTTYPE=image/png:https://becomethechange.co/wp-content/uploads/2022/09/Full-Moon.png
END:VEVENT
BEGIN:VEVENT
DTSTART;TZID=UTC:20240721T110000
DTEND;TZID=UTC:20240721T123000
DTSTAMP:20260424T015830
CREATED:20240708T122904Z
LAST-MODIFIED:20240722T095703Z
UID:10973-1721559600-1721565000@becomethechange.co
SUMMARY:CHAKRA BALANCING MEDITATION
DESCRIPTION:Connect to your chakras with flowing movements designed to activate the prana. \nFollowed by a guided Yoga Nidra meditation to bring relaxation and awareness into your entire being. Harmonizing the seven chakras and creating balance in your mind\, body and soul. \nSIGN UP HERE
URL:https://becomethechange.co/event/chakra-balancing-meditation-2/
LOCATION:Just Be Wellbeing Center\, 102 Al Woushar St - Umm Suqeim\, Dubai\, Dubai\, United Arab Emirates
CATEGORIES:In Person
ATTACH;FMTTYPE=image/png:https://becomethechange.co/wp-content/uploads/2024/07/IMG_4953.png
END:VEVENT
BEGIN:VEVENT
DTSTART;TZID=Asia/Dubai:20240728T110000
DTEND;TZID=Asia/Dubai:20240728T123000
DTSTAMP:20260424T015830
CREATED:20240708T124730Z
LAST-MODIFIED:20240722T095640Z
UID:10975-1722164400-1722169800@becomethechange.co
SUMMARY:CHAKRA BALANCING MEDITATION
DESCRIPTION:Osho Chakra Sounds Meditation uses vocalized sounds to open and bring harmony and awareness to the seven chakras. \nA deep sense of peacefulness will flow through your entire being as you make your own sounds or simply listen to the music feeling the sounds within you. \nSIGN UP HERE
URL:https://becomethechange.co/event/chakra-balancing-meditation-3/
LOCATION:Just Be Wellbeing Center\, 102 Al Woushar St - Umm Suqeim\, Dubai\, Dubai\, United Arab Emirates
CATEGORIES:In Person
ATTACH;FMTTYPE=image/png:https://becomethechange.co/wp-content/uploads/2024/07/IMG_4955.png
END:VEVENT
END:VCALENDAR