
BEGIN:VCALENDAR
VERSION:2.0
PRODID:-//Become The Change - ECPv5.16.2.1//NONSGML v1.0//EN
CALSCALE:GREGORIAN
METHOD:PUBLISH
X-WR-CALNAME:Become The Change
X-ORIGINAL-URL:https://becomethechange.co
X-WR-CALDESC:Events for Become The Change
REFRESH-INTERVAL;VALUE=DURATION:PT1H
X-Robots-Tag:noindex
X-PUBLISHED-TTL:PT1H
BEGIN:VTIMEZONE
TZID:UTC
BEGIN:STANDARD
TZOFFSETFROM:+0000
TZOFFSETTO:+0000
TZNAME:UTC
DTSTART:20230101T000000
END:STANDARD
END:VTIMEZONE
BEGIN:VEVENT
DTSTART;TZID=UTC:20230522T193000
DTEND;TZID=UTC:20230522T203000
DTSTAMP:20260425T024314
CREATED:20230522T081517Z
LAST-MODIFIED:20230522T081517Z
UID:7629-1684783800-1684787400@becomethechange.co
SUMMARY:RESTORE & MEDITATE
DESCRIPTION:Wind down from the day and ease into the evening with soothing stretches to release stress\, tension and tightness. Followed by a guided Meditation for complete relaxation of the mind\, body and soul\, accompanied by the soft vibrations of the singing bowl. \nYoga Nidra is a gentle yet powerful relaxation and awareness practice. \nAlso known as “Yogic Sleep”\, this meditation technique differs from others\, as the focus is on complete relaxation\, whilst being guided into the state of consciousness between wakefulness and sleeping. \nFrom this deeply relaxing place you will find your mind becoming clearer\, your heart calmer and your body restored. \nSIGN UP HERE
URL:https://becomethechange.co/event/restore-meditate-6/
LOCATION:Akasa Wellness\, Loft Offices building 2 - G05\, Dubai\, United Arab Emirates
CATEGORIES:In Person
ATTACH;FMTTYPE=image/jpeg:https://becomethechange.co/wp-content/uploads/2023/03/Yoga-Nidra-Dyad.jpg
END:VEVENT
BEGIN:VEVENT
DTSTART;TZID=UTC:20230526T184500
DTEND;TZID=UTC:20230526T194500
DTSTAMP:20260425T024314
CREATED:20230522T082135Z
LAST-MODIFIED:20230523T102542Z
UID:7631-1685126700-1685130300@becomethechange.co
SUMMARY:RESTORE & MEDITATE BY CANDLELIGHT
DESCRIPTION:Wind down from the day and ease into the evening with soothing stretches to release stress\, tension and tightness. Followed by a guided Meditation for complete relaxation of the mind\, body and soul\, accompanied by the soft vibrations of the singing bowl. \nYoga Nidra is a gentle yet powerful relaxation and awareness practice. \nAlso known as “Yogic Sleep”\, this meditation technique differs from others\, as the focus is on complete relaxation\, whilst being guided into the state of consciousness between wakefulness and sleeping. \nFrom this deeply relaxing place you will find your mind becoming clearer\, your heart calmer and your body restored. \nSIGN UP HERE
URL:https://becomethechange.co/event/restore-meditate-7/
LOCATION:Akasa Wellness\, Loft Offices building 2 - G05\, Dubai\, United Arab Emirates
CATEGORIES:In Person
ATTACH;FMTTYPE=image/png:https://becomethechange.co/wp-content/uploads/2023/05/Yoga-Nidra-2.png
END:VEVENT
BEGIN:VEVENT
DTSTART;TZID=UTC:20230528T150000
DTEND;TZID=UTC:20230528T160000
DTSTAMP:20260425T024314
CREATED:20230523T035853Z
LAST-MODIFIED:20230523T035853Z
UID:7648-1685286000-1685289600@becomethechange.co
SUMMARY:FAMILY QIGONG
DESCRIPTION:This creative movement class is specifically designed to help children explore and channel their creative energy alongside their parents. A time for the whole family to connect\, move and play. \nDrawing them out of themselves and then discovering their inner power by using playful mindful movement and meditation (including Qigong\, Laughter\, Dancing\, Spinning\, Mirroring\, Singing Bowls). \nThere is no pre-requisite for this class\, and it is beneficial particularly for children that do not enjoy competitive sports. \nYour child will learn to connect with their life force energy whilst becoming more aware of their body and mind connection. \n\nPrices start from AED for 1 adult and 1 child. \n\nSIGN UP HERE
URL:https://becomethechange.co/event/family-qigong-10/
LOCATION:Evolve Sports\, 6th Floor\, Control Tower\, Motor City\, Dubai\, United Arab Emirates
CATEGORIES:In Person
END:VEVENT
BEGIN:VEVENT
DTSTART;TZID=UTC:20230529T193000
DTEND;TZID=UTC:20230529T203000
DTSTAMP:20260425T024314
CREATED:20230522T082306Z
LAST-MODIFIED:20230523T102524Z
UID:7634-1685388600-1685392200@becomethechange.co
SUMMARY:RESTORE & MEDITATE BY CANDLELIGHT
DESCRIPTION:Wind down from the day and ease into the evening with soothing stretches to release stress\, tension and tightness. Followed by a guided Meditation for complete relaxation of the mind\, body and soul\, accompanied by the soft vibrations of the singing bowl. \nYoga Nidra is a gentle yet powerful relaxation and awareness practice. \nAlso known as “Yogic Sleep”\, this meditation technique differs from others\, as the focus is on complete relaxation\, whilst being guided into the state of consciousness between wakefulness and sleeping. \nFrom this deeply relaxing place you will find your mind becoming clearer\, your heart calmer and your body restored. \nSIGN UP HERE
URL:https://becomethechange.co/event/restore-meditate-8/
LOCATION:Akasa Wellness\, Loft Offices building 2 - G05\, Dubai\, United Arab Emirates
CATEGORIES:In Person
ATTACH;FMTTYPE=image/jpeg:https://becomethechange.co/wp-content/uploads/2023/03/Yoga-Nidra-Dyad.jpg
END:VEVENT
END:VCALENDAR