
BEGIN:VCALENDAR
VERSION:2.0
PRODID:-//Become The Change - ECPv5.16.2.1//NONSGML v1.0//EN
CALSCALE:GREGORIAN
METHOD:PUBLISH
X-WR-CALNAME:Become The Change
X-ORIGINAL-URL:https://becomethechange.co
X-WR-CALDESC:Events for Become The Change
REFRESH-INTERVAL;VALUE=DURATION:PT1H
X-Robots-Tag:noindex
X-PUBLISHED-TTL:PT1H
BEGIN:VTIMEZONE
TZID:UTC
BEGIN:STANDARD
TZOFFSETFROM:+0000
TZOFFSETTO:+0000
TZNAME:UTC
DTSTART:20220101T000000
END:STANDARD
END:VTIMEZONE
BEGIN:VEVENT
DTSTART;TZID=UTC:20220906T190000
DTEND;TZID=UTC:20220906T200000
DTSTAMP:20260425T215359
CREATED:20220720T113713Z
LAST-MODIFIED:20220720T133742Z
UID:5796-1662490800-1662494400@becomethechange.co
SUMMARY:Qigong – A Mindful Movement Practice
DESCRIPTION:Qigong is an ancient health and wellness practice that dates back thousands of years. It is the art of effortless power.\nNo previous experience is necessary as Amy guides you to tap into this power from within\, with gentle movements\, breathwork and intention.\nYou will learn how to move your Qi (life force energy) and then let it move you. Ending with a guided meditation that will light up your entire being. \nBenefits of a regular Qigong practice include:\nGain energy\nReduce stress\nBoost your immune system\nActivate healing energy\nIncrease longevity and youthfulness\nClear pain \nAED89.25
URL:https://becomethechange.co/event/yoga-nidra-for-self-love/
ATTACH;FMTTYPE=image/jpeg:https://becomethechange.co/wp-content/uploads/2022/06/3.jpg
END:VEVENT
END:VCALENDAR