
BEGIN:VCALENDAR
VERSION:2.0
PRODID:-//Become The Change - ECPv5.16.2.1//NONSGML v1.0//EN
CALSCALE:GREGORIAN
METHOD:PUBLISH
X-ORIGINAL-URL:https://becomethechange.co
X-WR-CALDESC:Events for Become The Change
REFRESH-INTERVAL;VALUE=DURATION:PT1H
X-Robots-Tag:noindex
X-PUBLISHED-TTL:PT1H
BEGIN:VTIMEZONE
TZID:UTC
BEGIN:STANDARD
TZOFFSETFROM:+0000
TZOFFSETTO:+0000
TZNAME:UTC
DTSTART:20230101T000000
END:STANDARD
END:VTIMEZONE
BEGIN:VEVENT
DTSTART;TZID=UTC:20230807T150000
DTEND;TZID=UTC:20230807T153000
DTSTAMP:20260423T042721
CREATED:20230731T134659Z
LAST-MODIFIED:20230731T134659Z
UID:7789-1691420400-1691422200@becomethechange.co
SUMMARY:ONLINE GROUP QIGONG
DESCRIPTION:Qigong is a gentle yet transformative movement practice that dates back thousands of years. It is the art of effortless power which helps reduce stress and tension whilst increasing energy. \nIn our weekly Online Qigong classes you will tap into this power from within you\, with gentle flowing movements\, breathwork and intention. \nYou will learn how to move your Qi (life force energy) and then let it move you. \nSIGN UP HERE
URL:https://becomethechange.co/event/online-group-qigong/
CATEGORIES:Online
ATTACH;FMTTYPE=image/png:https://becomethechange.co/wp-content/uploads/2023/07/Qi-2.png
END:VEVENT
END:VCALENDAR