
BEGIN:VCALENDAR
VERSION:2.0
PRODID:-//Become The Change - ECPv5.16.2.1//NONSGML v1.0//EN
CALSCALE:GREGORIAN
METHOD:PUBLISH
X-ORIGINAL-URL:https://becomethechange.co
X-WR-CALDESC:Events for Become The Change
REFRESH-INTERVAL;VALUE=DURATION:PT1H
X-Robots-Tag:noindex
X-PUBLISHED-TTL:PT1H
BEGIN:VTIMEZONE
TZID:UTC
BEGIN:STANDARD
TZOFFSETFROM:+0000
TZOFFSETTO:+0000
TZNAME:UTC
DTSTART:20230101T000000
END:STANDARD
END:VTIMEZONE
BEGIN:VEVENT
DTSTART;TZID=UTC:20230918T150000
DTEND;TZID=UTC:20230918T153000
DTSTAMP:20260423T005528
CREATED:20230911T122714Z
LAST-MODIFIED:20230911T122714Z
UID:7845-1695049200-1695051000@becomethechange.co
SUMMARY:ONLINE GROUP QIGONG
DESCRIPTION:Qigong is a gentle yet transformative movement practice that dates back thousands of years. It is the art of effortless power which helps reduce stress and tension whilst increasing energy. \nIn our weekly Online Qigong classes you will tap into this power from within you\, with gentle flowing movements\, breathwork and intention. \nYou will learn how to move your Qi (life force energy) and then let it move you. \nSIGN UP HERE
URL:https://becomethechange.co/event/online-group-qigong-5/
CATEGORIES:Online
ATTACH;FMTTYPE=image/png:https://becomethechange.co/wp-content/uploads/2023/07/Qi-2.png
END:VEVENT
BEGIN:VEVENT
DTSTART;TZID=UTC:20230923T150000
DTEND;TZID=UTC:20230923T153000
DTSTAMP:20260423T005528
CREATED:20230920T070704Z
LAST-MODIFIED:20230920T070704Z
UID:7862-1695481200-1695483000@becomethechange.co
SUMMARY:ONLINE GROUP QIGONG
DESCRIPTION:Qigong is a gentle yet transformative movement practice that dates back thousands of years. It is the art of effortless power which helps reduce stress and tension whilst increasing energy. \nIn our weekly Online Qigong classes you will tap into this power from within you\, with gentle flowing movements\, breathwork and intention. \nYou will learn how to move your Qi (life force energy) and then let it move you. \nSIGN UP HERE
URL:https://becomethechange.co/event/online-group-qigong-7/
CATEGORIES:Online
ATTACH;FMTTYPE=image/png:https://becomethechange.co/wp-content/uploads/2023/07/Qi-2.png
END:VEVENT
BEGIN:VEVENT
DTSTART;TZID=UTC:20230925T150000
DTEND;TZID=UTC:20230925T153000
DTSTAMP:20260423T005528
CREATED:20230911T122942Z
LAST-MODIFIED:20230911T122942Z
UID:7847-1695654000-1695655800@becomethechange.co
SUMMARY:ONLINE GROUP QIGONG
DESCRIPTION:Qigong is a gentle yet transformative movement practice that dates back thousands of years. It is the art of effortless power which helps reduce stress and tension whilst increasing energy. \nIn our weekly Online Qigong classes you will tap into this power from within you\, with gentle flowing movements\, breathwork and intention. \nYou will learn how to move your Qi (life force energy) and then let it move you. \nSIGN UP HERE
URL:https://becomethechange.co/event/online-group-qigong-6/
CATEGORIES:Online
ATTACH;FMTTYPE=image/png:https://becomethechange.co/wp-content/uploads/2023/07/Qi-2.png
END:VEVENT
BEGIN:VEVENT
DTSTART;TZID=UTC:20230927T200000
DTEND;TZID=UTC:20230927T210000
DTSTAMP:20260423T005528
CREATED:20230913T060812Z
LAST-MODIFIED:20230913T060812Z
UID:7853-1695844800-1695848400@becomethechange.co
SUMMARY:ONLINE TAO YIN - GENTLE STRETCHING & MEDITATION
DESCRIPTION:“Qi flows where the mind goes” – learn how to guide and direct your Qi (life force energy)\, through the mind and body\, with deep gentle stretching and flowing movements. \nTao Yin is an ancient practice discovered by accident by cave excavators looking for treasure in 160BC. It is the ancestor of Yoga and Qigong. \nTao Yin means to guide and direct the life force energy through the body and mind using specific channel meridians. Using the breath\, the body\, and the mind to circulate the Qi energy within us all. \nConnect to your Qi. Be empowered. \nBook HERE
URL:https://becomethechange.co/event/online-tao-yin-gentle-stretching-meditation/
CATEGORIES:Online
ATTACH;FMTTYPE=image/png:https://becomethechange.co/wp-content/uploads/2023/08/Tao-Yin.png
END:VEVENT
END:VCALENDAR