
BEGIN:VCALENDAR
VERSION:2.0
PRODID:-//Become The Change - ECPv5.16.2.1//NONSGML v1.0//EN
CALSCALE:GREGORIAN
METHOD:PUBLISH
X-ORIGINAL-URL:https://becomethechange.co
X-WR-CALDESC:Events for Become The Change
REFRESH-INTERVAL;VALUE=DURATION:PT1H
X-Robots-Tag:noindex
X-PUBLISHED-TTL:PT1H
BEGIN:VTIMEZONE
TZID:Asia/Dubai
BEGIN:STANDARD
TZOFFSETFROM:+0400
TZOFFSETTO:+0400
TZNAME:+04
DTSTART:20250101T000000
END:STANDARD
END:VTIMEZONE
BEGIN:VEVENT
DTSTART;TZID=Asia/Dubai:20250515T180000
DTEND;TZID=Asia/Dubai:20250515T190000
DTSTAMP:20260423T110347
CREATED:20250430T124826Z
LAST-MODIFIED:20250430T124826Z
UID:11789-1747332000-1747335600@becomethechange.co
SUMMARY:GROUP ANGELIC REIKI HEALING SESSION
DESCRIPTION:A 60 minute sacred space to slow down\, soften\, and receive. \nThis session invites you to rest in stillness while gentle\, high-frequency angelic energy flows through\, supporting emotional release\, energetic balance and deep inner peace. \nWith breath\, intention\, and sound you’ll be held in a space of light\, grace and quiet transformation. \n 
URL:https://becomethechange.co/event/group-angelic-reiki-healing-session/
LOCATION:Sohum Wellness Sanctuary\, Al Quoz\, United Arab Emirates
CATEGORIES:In Person
ATTACH;FMTTYPE=image/jpeg:https://becomethechange.co/wp-content/uploads/2025/02/84f40d47-9cc7-465d-9fbf-8c33257632e3-1.jpg
END:VEVENT
END:VCALENDAR