
BEGIN:VCALENDAR
VERSION:2.0
PRODID:-//Become The Change - ECPv5.16.2.1//NONSGML v1.0//EN
CALSCALE:GREGORIAN
METHOD:PUBLISH
X-WR-CALNAME:Become The Change
X-ORIGINAL-URL:https://becomethechange.co
X-WR-CALDESC:Events for Become The Change
REFRESH-INTERVAL;VALUE=DURATION:PT1H
X-Robots-Tag:noindex
X-PUBLISHED-TTL:PT1H
BEGIN:VTIMEZONE
TZID:Asia/Dubai
BEGIN:STANDARD
TZOFFSETFROM:+0400
TZOFFSETTO:+0400
TZNAME:+04
DTSTART:20240101T000000
END:STANDARD
END:VTIMEZONE
BEGIN:VEVENT
DTSTART;TZID=Asia/Dubai:20240825T110000
DTEND;TZID=Asia/Dubai:20240825T123000
DTSTAMP:20260424T015716
CREATED:20240722T101043Z
LAST-MODIFIED:20240722T101043Z
UID:11266-1724583600-1724589000@becomethechange.co
SUMMARY:OSHO KUNDALINI MEDITATION
DESCRIPTION:With Osho Kundalini Meditation you will shake to loose and unwind the body and mind. \nReleasing the stuck energy and rising up to your powerful self. \nDancing in celebration to the kundalini energy that is within you. Sparkling with bliss\, joy and confidence. \nSIGN UP HERE
URL:https://becomethechange.co/event/osho-kundalini-meditation-3/
LOCATION:Just Be Wellbeing Center\, 102 Al Woushar St - Umm Suqeim\, Dubai\, Dubai\, United Arab Emirates
CATEGORIES:In Person
ATTACH;FMTTYPE=image/jpeg:https://becomethechange.co/wp-content/uploads/2023/03/Dance.-png.jpg
END:VEVENT
END:VCALENDAR