
BEGIN:VCALENDAR
VERSION:2.0
PRODID:-//Become The Change - ECPv5.16.2.1//NONSGML v1.0//EN
CALSCALE:GREGORIAN
METHOD:PUBLISH
X-ORIGINAL-URL:https://becomethechange.co
X-WR-CALDESC:Events for Become The Change
REFRESH-INTERVAL;VALUE=DURATION:PT1H
X-Robots-Tag:noindex
X-PUBLISHED-TTL:PT1H
BEGIN:VTIMEZONE
TZID:Asia/Dubai
BEGIN:STANDARD
TZOFFSETFROM:+0400
TZOFFSETTO:+0400
TZNAME:+04
DTSTART:20240101T000000
END:STANDARD
END:VTIMEZONE
BEGIN:VEVENT
DTSTART;TZID=Asia/Dubai:20240720T183000
DTEND;TZID=Asia/Dubai:20240720T200000
DTSTAMP:20260424T033755
CREATED:20240708T120003Z
LAST-MODIFIED:20240708T120003Z
UID:10965-1721500200-1721505600@becomethechange.co
SUMMARY:FULL MOON CACAO CEREMONY & QIGONG
DESCRIPTION:Embrace the radiant glow of the Full Moon and its potent energy along with a powerful blend of ancient practices. \nAwaken your intuition with a ceremonial sip of sacred cacao. Let go of what no longer serves you under the Full Moon’s watchful gaze. \nConnect to your Heart with the Cacao. Enjoy the Power and Grace of Qigong. \nImmerse yourself in a symphony of chimes and drumming and let’s flow through gentle movements of qigong leaving you feeling deeply relaxed and centered. \nSIGN UP HERE
URL:https://becomethechange.co/event/full-moon-cacao-ceremony-qigong/
LOCATION:Just Be Wellbeing Center\, 102 Al Woushar St - Umm Suqeim\, Dubai\, Dubai\, United Arab Emirates
CATEGORIES:In Person
ATTACH;FMTTYPE=image/png:https://becomethechange.co/wp-content/uploads/2022/09/Full-Moon.png
END:VEVENT
END:VCALENDAR