
BEGIN:VCALENDAR
VERSION:2.0
PRODID:-//Become The Change - ECPv5.16.2.1//NONSGML v1.0//EN
CALSCALE:GREGORIAN
METHOD:PUBLISH
X-WR-CALNAME:Become The Change
X-ORIGINAL-URL:https://becomethechange.co
X-WR-CALDESC:Events for Become The Change
REFRESH-INTERVAL;VALUE=DURATION:PT1H
X-Robots-Tag:noindex
X-PUBLISHED-TTL:PT1H
BEGIN:VTIMEZONE
TZID:Asia/Dubai
BEGIN:STANDARD
TZOFFSETFROM:+0400
TZOFFSETTO:+0400
TZNAME:+04
DTSTART:20240101T000000
END:STANDARD
END:VTIMEZONE
BEGIN:VEVENT
DTSTART;TZID=Asia/Dubai:20240316T113000
DTEND;TZID=Asia/Dubai:20240316T130000
DTSTAMP:20260424T102148
CREATED:20240304T125319Z
LAST-MODIFIED:20240304T125319Z
UID:10599-1710588600-1710594000@becomethechange.co
SUMMARY:BALANCE & ELEVATE - WEEK 6 - THE METAL ELEMENT
DESCRIPTION:Starting with an overview of the Metal Element\, the physical and emotional issues that arise from the Water Element being out of balance. \nTips of how to balance the Metal Element\, including acupressure points. \nWe will then connect to the energy of the Metal Element through the Body in a Qigong Movement Practice and Meditation. \nFollowed by a Coaching Exercise (written) to develop the union deeper into the Mind. \nYou will continue to work with the Metal Element for one week with simple activities to bring into your daily life. \nPLEASE WEAR WHITE OR METALIC COLORS TO THIS SESSION & SIGN UP HERE
URL:https://becomethechange.co/event/balance-elevate-week-6-the-metal-element/
LOCATION:Just Be Wellbeing Center\, 102 Al Woushar St - Umm Suqeim\, Dubai\, Dubai\, United Arab Emirates
CATEGORIES:In Person
ATTACH;FMTTYPE=image/png:https://becomethechange.co/wp-content/uploads/2023/05/Discover-Your-Element-2.png
END:VEVENT
BEGIN:VEVENT
DTSTART;TZID=Asia/Dubai:20240316T183000
DTEND;TZID=Asia/Dubai:20240316T200000
DTSTAMP:20260424T102148
CREATED:20240304T133217Z
LAST-MODIFIED:20240304T133217Z
UID:10610-1710613800-1710619200@becomethechange.co
SUMMARY:PARK CACAO QIGONG WITH SOUNDS
DESCRIPTION:Embrace the energy of nature by being outdoors along with a powerful blend of ancient practices. \nConnect to your Heart with the Cacao. Enjoy the Power and Grace of Qigong alongside the vibrations of a Sound Bowl. \nImmerse yourself in a symphony of chimes and drumming and let’s flow through gentle movements of qigong leaving you feeling deeply relaxed and centered. \nSIGN UP HERE
URL:https://becomethechange.co/event/park-cacao-qigong-with-sounds/
CATEGORIES:In Person
ATTACH;FMTTYPE=image/jpeg:https://becomethechange.co/wp-content/uploads/2022/11/Fly.jpg
END:VEVENT
END:VCALENDAR