
BEGIN:VCALENDAR
VERSION:2.0
PRODID:-//Become The Change - ECPv5.16.2.1//NONSGML v1.0//EN
CALSCALE:GREGORIAN
METHOD:PUBLISH
X-ORIGINAL-URL:https://becomethechange.co
X-WR-CALDESC:Events for Become The Change
REFRESH-INTERVAL;VALUE=DURATION:PT1H
X-Robots-Tag:noindex
X-PUBLISHED-TTL:PT1H
BEGIN:VTIMEZONE
TZID:UTC
BEGIN:STANDARD
TZOFFSETFROM:+0000
TZOFFSETTO:+0000
TZNAME:UTC
DTSTART:20240101T000000
END:STANDARD
END:VTIMEZONE
BEGIN:VEVENT
DTSTART;TZID=UTC:20240309T113000
DTEND;TZID=UTC:20240309T130000
DTSTAMP:20260424T103343
CREATED:20240304T124933Z
LAST-MODIFIED:20240304T124933Z
UID:10597-1709983800-1709989200@becomethechange.co
SUMMARY:BALANCE & ELEVATE - WEEK 5 - THE EARTH ELEMENT
DESCRIPTION:Starting with an overview of the Earth Element\, the physical and emotional issues that arise from the Water Element being out of balance. \nTips of how to balance the Earth Element\, including acupressure points. \nWe will then connect to the energy of the Earth Element through the Body in a Qigong Movement Practice and Meditation. \nFollowed by a Coaching Exercise (written) to develop the union deeper into the Mind. \nYou will continue to work with the Earth Element for one week with simple activities to bring into your daily life. \nPLEASE WEAR YELLOW OR BROWN COLORS TO THIS SESSION & SIGN UP HERE \n 
URL:https://becomethechange.co/event/balance-elevate-week-5-the-earth-element/
LOCATION:Just Be Wellbeing Center\, 102 Al Woushar St - Umm Suqeim\, Dubai\, Dubai\, United Arab Emirates
CATEGORIES:In Person
ATTACH;FMTTYPE=image/png:https://becomethechange.co/wp-content/uploads/2023/05/Discover-Your-Element-2.png
END:VEVENT
END:VCALENDAR