
BEGIN:VCALENDAR
VERSION:2.0
PRODID:-//Become The Change - ECPv5.16.2.1//NONSGML v1.0//EN
CALSCALE:GREGORIAN
METHOD:PUBLISH
X-WR-CALNAME:Become The Change
X-ORIGINAL-URL:https://becomethechange.co
X-WR-CALDESC:Events for Become The Change
REFRESH-INTERVAL;VALUE=DURATION:PT1H
X-Robots-Tag:noindex
X-PUBLISHED-TTL:PT1H
BEGIN:VTIMEZONE
TZID:Asia/Dubai
BEGIN:STANDARD
TZOFFSETFROM:+0400
TZOFFSETTO:+0400
TZNAME:+04
DTSTART:20240101T000000
END:STANDARD
TZID:UTC
BEGIN:STANDARD
TZOFFSETFROM:+0000
TZOFFSETTO:+0000
TZNAME:UTC
DTSTART:20240101T000000
END:STANDARD
END:VTIMEZONE
BEGIN:VEVENT
DTSTART;TZID=Asia/Dubai:20240302T113000
DTEND;TZID=Asia/Dubai:20240302T130000
DTSTAMP:20260424T102924
CREATED:20240202T070325Z
LAST-MODIFIED:20240304T124626Z
UID:10447-1709379000-1709384400@becomethechange.co
SUMMARY:BALANCE & ELEVATE - WEEK 4 - THE FIRE ELEMENT
DESCRIPTION:Starting with an overview of the Fire Element\, the physical and emotional issues that arise from the Water Element being out of balance. \nTips of how to balance the Fire Element\, including acupressure points. \nWe will then connect to the energy of the Fire Element through the Body in a Qigong Movement Practice and Meditation. \nFollowed by a Coaching Exercise (written) to develop the union deeper into the Mind. \nYou will continue to work with the Fire Element for one week with simple activities to bring into your daily life. \nPLEASE WEAR RED OR BRIGHT COLORS TO THIS SESSION & SIGN UP HERE
URL:https://becomethechange.co/event/balance-elevate-week-4-the-fire-element/
LOCATION:Just Be Wellbeing Center\, 102 Al Woushar St - Umm Suqeim\, Dubai\, Dubai\, United Arab Emirates
CATEGORIES:In Person
ATTACH;FMTTYPE=image/png:https://becomethechange.co/wp-content/uploads/2023/12/Balance-Elevate-Landscape.png
END:VEVENT
BEGIN:VEVENT
DTSTART;TZID=UTC:20240302T180000
DTEND;TZID=UTC:20240302T200000
DTSTAMP:20260424T102924
CREATED:20240304T124522Z
LAST-MODIFIED:20240304T124522Z
UID:10593-1709402400-1709409600@becomethechange.co
SUMMARY:CACAO SOUNDS & QIGONG IN THE PARK
DESCRIPTION:We will take you on a journey with ceremonial cacao\, sound healing and Qigong movements. \nConnect to your heart and open up to new beginnings while surrounded by nature. \nOnce registered we will send you the pin drop of the exact spot. \nAll you have to bring is a yoga mat\, a blanket or warm clothes and your beautiful self. \nREGISTER HERE
URL:https://becomethechange.co/event/cacao-sounds-qigong-in-the-park-2/
CATEGORIES:In Person
ATTACH;FMTTYPE=image/jpeg:https://becomethechange.co/wp-content/uploads/2022/11/Fly.jpg
END:VEVENT
END:VCALENDAR