
BEGIN:VCALENDAR
VERSION:2.0
PRODID:-//Become The Change - ECPv5.16.2.1//NONSGML v1.0//EN
CALSCALE:GREGORIAN
METHOD:PUBLISH
X-WR-CALNAME:Become The Change
X-ORIGINAL-URL:https://becomethechange.co
X-WR-CALDESC:Events for Become The Change
REFRESH-INTERVAL;VALUE=DURATION:PT1H
X-Robots-Tag:noindex
X-PUBLISHED-TTL:PT1H
BEGIN:VTIMEZONE
TZID:Asia/Dubai
BEGIN:STANDARD
TZOFFSETFROM:+0400
TZOFFSETTO:+0400
TZNAME:+04
DTSTART:20240101T000000
END:STANDARD
END:VTIMEZONE
BEGIN:VEVENT
DTSTART;TZID=Asia/Dubai:20240215T193000
DTEND;TZID=Asia/Dubai:20240215T210000
DTSTAMP:20260424T120055
CREATED:20240202T062029Z
LAST-MODIFIED:20240202T062029Z
UID:10435-1708025400-1708030800@becomethechange.co
SUMMARY:LOVE - A BREATHWORK & QIGONG EXPERIENCE
DESCRIPTION:Join us for a special event during love week to breathe away any painful experiences weighing heavy in our hearts. \nTogether we will remind ourselves what love feels like by connecting to our heart energy and experiencing loving kindness through the body with gentle and graceful flowing movements. \nOnce we have welcomed love into our lives we can then share this beautiful energy with the world. \nSIGN UP HERE
URL:https://becomethechange.co/event/love-a-breathwork-qigong-experience/
LOCATION:Just Be Wellbeing Center\, 102 Al Woushar St - Umm Suqeim\, Dubai\, Dubai\, United Arab Emirates
CATEGORIES:In Person
ATTACH;FMTTYPE=image/jpeg:https://becomethechange.co/wp-content/uploads/2022/10/Bliss.png.jpg
END:VEVENT
END:VCALENDAR