
BEGIN:VCALENDAR
VERSION:2.0
PRODID:-//Become The Change - ECPv5.16.2.1//NONSGML v1.0//EN
CALSCALE:GREGORIAN
METHOD:PUBLISH
X-WR-CALNAME:Become The Change
X-ORIGINAL-URL:https://becomethechange.co
X-WR-CALDESC:Events for Become The Change
REFRESH-INTERVAL;VALUE=DURATION:PT1H
X-Robots-Tag:noindex
X-PUBLISHED-TTL:PT1H
BEGIN:VTIMEZONE
TZID:Asia/Dubai
BEGIN:STANDARD
TZOFFSETFROM:+0400
TZOFFSETTO:+0400
TZNAME:+04
DTSTART:20240101T000000
END:STANDARD
END:VTIMEZONE
BEGIN:VEVENT
DTSTART;TZID=Asia/Dubai:20240115T180000
DTEND;TZID=Asia/Dubai:20240115T190000
DTSTAMP:20260424T134659
CREATED:20240109T084730Z
LAST-MODIFIED:20240109T084730Z
UID:10348-1705341600-1705345200@becomethechange.co
SUMMARY:RESTORATIVE TAO YIN WITH RED LIGHT MAT
DESCRIPTION:Tao Yin is where the ancient philosophy of Yoga and Qigong meet.\nWith relaxing stretching and flowing floor movements you will learn how to guide and direct your Qi (life force energy)\, through the mind and body\, connect to your meridians and unlock tension and tightness. \nThis class uses a Red Light Therapy mat which can help reduce tightness and stiffness in the joints among many other benefits. \nBecome one with the power and light within you. \nBook HERE
URL:https://becomethechange.co/event/restorative-tao-yin-with-red-light-mat/
LOCATION:Truth Yoga\, sunset mall\, Dubai\, United Arab Emirates
CATEGORIES:In Person
ATTACH;FMTTYPE=image/png:https://becomethechange.co/wp-content/uploads/2023/09/Tao-Yin-Photo.png
END:VEVENT
END:VCALENDAR