
BEGIN:VCALENDAR
VERSION:2.0
PRODID:-//Become The Change - ECPv5.16.2.1//NONSGML v1.0//EN
CALSCALE:GREGORIAN
METHOD:PUBLISH
X-WR-CALNAME:Become The Change
X-ORIGINAL-URL:https://becomethechange.co
X-WR-CALDESC:Events for Become The Change
REFRESH-INTERVAL;VALUE=DURATION:PT1H
X-Robots-Tag:noindex
X-PUBLISHED-TTL:PT1H
BEGIN:VTIMEZONE
TZID:Asia/Dubai
BEGIN:STANDARD
TZOFFSETFROM:+0400
TZOFFSETTO:+0400
TZNAME:+04
DTSTART:20240101T000000
END:STANDARD
END:VTIMEZONE
BEGIN:VEVENT
DTSTART;TZID=Asia/Dubai:20240112T101500
DTEND;TZID=Asia/Dubai:20240112T111500
DTSTAMP:20260424T134705
CREATED:20240109T090353Z
LAST-MODIFIED:20240109T090353Z
UID:10354-1705054500-1705058100@becomethechange.co
SUMMARY:CORE CHI
DESCRIPTION:Ignite your abdominal fire with a great core workout that energizes and strengthens the core and back muscles. \nConnect with and activate the different muscles that make up the core including your Obliques\, Psoas Muscle and Erectors. \nLearn fun exercises like Swimming Dragon\, Monkey Plays On The Ground and Flying In Your Dreams! Whilst creating a structural support for a healthy energy system \nBOOK HERE
URL:https://becomethechange.co/event/core-chi/
LOCATION:Soulside Studio\, JLT\, United Arab Emirates
CATEGORIES:In Person
ATTACH;FMTTYPE=image/jpeg:https://becomethechange.co/wp-content/uploads/2024/01/Core-Chi.jpg
END:VEVENT
END:VCALENDAR