
BEGIN:VCALENDAR
VERSION:2.0
PRODID:-//Become The Change - ECPv5.16.2.1//NONSGML v1.0//EN
CALSCALE:GREGORIAN
METHOD:PUBLISH
X-WR-CALNAME:Become The Change
X-ORIGINAL-URL:https://becomethechange.co
X-WR-CALDESC:Events for Become The Change
REFRESH-INTERVAL;VALUE=DURATION:PT1H
X-Robots-Tag:noindex
X-PUBLISHED-TTL:PT1H
BEGIN:VTIMEZONE
TZID:Asia/Dubai
BEGIN:STANDARD
TZOFFSETFROM:+0400
TZOFFSETTO:+0400
TZNAME:+04
DTSTART:20230101T000000
END:STANDARD
END:VTIMEZONE
BEGIN:VEVENT
DTSTART;TZID=Asia/Dubai:20231221T190000
DTEND;TZID=Asia/Dubai:20231221T203000
DTSTAMP:20260424T154607
CREATED:20231130T102111Z
LAST-MODIFIED:20231130T102111Z
UID:9985-1703185200-1703190600@becomethechange.co
SUMMARY:GET READY FOR THE NEW YEAR! QIGONG\, YOGA NIDRA & SOUND HEALING
DESCRIPTION:Together we will take you on a journey of Gentle Movement\, Intention Setting Meditation and Healing Sounds. \nWhere you will be guided to plant seeds of intention through deepening layers of your awareness. The nurturing energy combined with complete relaxation and healing sounds\, will help you close the door on 2023 and usher in a new year. \nSIGN UP HERE
URL:https://becomethechange.co/event/get-ready-for-the-new-year-qigong-yoga-nidra-sound-healing/
LOCATION:Just Be Wellbeing Center\, 102 Al Woushar St - Umm Suqeim\, Dubai\, Dubai\, United Arab Emirates
CATEGORIES:In Person
ATTACH;FMTTYPE=image/png:https://becomethechange.co/wp-content/uploads/2023/06/Sound-HEaling.png
END:VEVENT
END:VCALENDAR