
BEGIN:VCALENDAR
VERSION:2.0
PRODID:-//Become The Change - ECPv5.16.2.1//NONSGML v1.0//EN
CALSCALE:GREGORIAN
METHOD:PUBLISH
X-ORIGINAL-URL:https://becomethechange.co
X-WR-CALDESC:Events for Become The Change
REFRESH-INTERVAL;VALUE=DURATION:PT1H
X-Robots-Tag:noindex
X-PUBLISHED-TTL:PT1H
BEGIN:VTIMEZONE
TZID:Asia/Dubai
BEGIN:STANDARD
TZOFFSETFROM:+0400
TZOFFSETTO:+0400
TZNAME:+04
DTSTART:20230101T000000
END:STANDARD
END:VTIMEZONE
BEGIN:VEVENT
DTSTART;TZID=Asia/Dubai:20231217T090000
DTEND;TZID=Asia/Dubai:20231217T110000
DTSTAMP:20260424T154659
CREATED:20231130T103643Z
LAST-MODIFIED:20231130T103643Z
UID:9993-1702803600-1702810800@becomethechange.co
SUMMARY:CACAO & QIGONG IN THE PARK
DESCRIPTION:Whilst surrounded by Mother Nature you will connect to your heart’s wishes during an enchanting Cacao Ceremony. \nLet go of what no longer serves you to create space to fill your heart with love and gratitude. Experience the cacao merging with your body in a gentle yet revitalising Qigong practice. \nWe combine breathwork and graceful movements to alleviate stress and replenish energy. \nFollowed by light plant-based bites. \nSIGN UP HERE
URL:https://becomethechange.co/event/cacao-qigong-in-the-park/
CATEGORIES:In Person
ATTACH;FMTTYPE=image/jpeg:https://becomethechange.co/wp-content/uploads/2023/11/image-008-1.jpg
END:VEVENT
BEGIN:VEVENT
DTSTART;TZID=Asia/Dubai:20231217T173000
DTEND;TZID=Asia/Dubai:20231217T183000
DTSTAMP:20260424T154659
CREATED:20231130T103133Z
LAST-MODIFIED:20231130T103133Z
UID:9991-1702834200-1702837800@becomethechange.co
SUMMARY:ON THE BEACH TAO YIN STRETCH & FLOW
DESCRIPTION:Tao Yin is an ancient practice discovered by accident by cave excavators looking for treasure in 160BC. They discovered 44 drawings in one of the tombs which were valuable ancient exercises for health and longevity. \nIt is the ancestor of Yoga and Qigong. With deeper stretching than Qigong and more flow than Yoga. \nTao Yin means to guide and direct the life force energy through the body and mind using specific channel meridians. Using the breath\, the body\, and the mind to circulate the energy within us all.\nUsing the power of mindfulness we will nourish\, nurture and restore all parts of our being. Clearing areas of tension and releasing blocked energy. \nConnect to your Qi. Be empowered. \nSIGN UP HERE
URL:https://becomethechange.co/event/on-the-beach-tao-yin-stretch-flow-3/
LOCATION:Truth Yoga\, sunset mall\, Dubai\, United Arab Emirates
CATEGORIES:In Person
ATTACH;FMTTYPE=image/jpeg:https://becomethechange.co/wp-content/uploads/2023/11/image-003-2.jpg
END:VEVENT
END:VCALENDAR