
BEGIN:VCALENDAR
VERSION:2.0
PRODID:-//Become The Change - ECPv5.16.2.1//NONSGML v1.0//EN
CALSCALE:GREGORIAN
METHOD:PUBLISH
X-WR-CALNAME:Become The Change
X-ORIGINAL-URL:https://becomethechange.co
X-WR-CALDESC:Events for Become The Change
REFRESH-INTERVAL;VALUE=DURATION:PT1H
X-Robots-Tag:noindex
X-PUBLISHED-TTL:PT1H
BEGIN:VTIMEZONE
TZID:Asia/Dubai
BEGIN:STANDARD
TZOFFSETFROM:+0400
TZOFFSETTO:+0400
TZNAME:+04
DTSTART:20230101T000000
END:STANDARD
END:VTIMEZONE
BEGIN:VEVENT
DTSTART;TZID=Asia/Dubai:20231211T180000
DTEND;TZID=Asia/Dubai:20231211T190000
DTSTAMP:20260424T153607
CREATED:20231130T094334Z
LAST-MODIFIED:20231130T094334Z
UID:9964-1702317600-1702321200@becomethechange.co
SUMMARY:RESTORATIVE TAO YIN
DESCRIPTION:Tao Yin is where the ancient philosophy of Yoga and Qigong meet.\nWith relaxing stretching and flowing floor movements you will learn how to guide and direct your Qi (life force energy)\, through the mind and body\, connect to your meridians and unlock tension and tightness. \nBecome one with the power and light within you. \nBook HERE
URL:https://becomethechange.co/event/restorative-tao-yin-7/
LOCATION:Truth Yoga\, sunset mall\, Dubai\, United Arab Emirates
CATEGORIES:In Person
ATTACH;FMTTYPE=image/png:https://becomethechange.co/wp-content/uploads/2023/09/Tao-Yin-Photo.png
END:VEVENT
BEGIN:VEVENT
DTSTART;TZID=Asia/Dubai:20231211T194500
DTEND;TZID=Asia/Dubai:20231211T204500
DTSTAMP:20260424T153607
CREATED:20231130T093510Z
LAST-MODIFIED:20231130T094812Z
UID:9958-1702323900-1702327500@becomethechange.co
SUMMARY:RESTORE & MEDITATE BY CANDLELIGHT
DESCRIPTION:Wind down with soothing stretches to release tension and tightness. Followed by a guided Meditation for relaxation of the mind\, body and soul\n\nYoga Nidra is a gentle yet powerful relaxation and awareness practice. \nAlso known as “Yogic Sleep”\, this meditation technique differs from others\, as the focus is on complete relaxation\, whilst being guided into the state of consciousness between wakefulness and sleeping. \nFrom this deeply relaxing place you will find your mind becoming clearer\, your heart calmer and your body restored. \nSIGN UP HERE
URL:https://becomethechange.co/event/restore-meditate-by-candlelight-31/
LOCATION:Akasa Wellness\, Loft Offices building 2 - G05\, Dubai\, United Arab Emirates
CATEGORIES:In Person
ATTACH;FMTTYPE=image/jpeg:https://becomethechange.co/wp-content/uploads/2023/03/Yoga-Nidra-Dyad.jpg
END:VEVENT
END:VCALENDAR