
BEGIN:VCALENDAR
VERSION:2.0
PRODID:-//Become The Change - ECPv5.16.2.1//NONSGML v1.0//EN
CALSCALE:GREGORIAN
METHOD:PUBLISH
X-ORIGINAL-URL:https://becomethechange.co
X-WR-CALDESC:Events for Become The Change
REFRESH-INTERVAL;VALUE=DURATION:PT1H
X-Robots-Tag:noindex
X-PUBLISHED-TTL:PT1H
BEGIN:VTIMEZONE
TZID:Asia/Dubai
BEGIN:STANDARD
TZOFFSETFROM:+0400
TZOFFSETTO:+0400
TZNAME:+04
DTSTART:20230101T000000
END:STANDARD
END:VTIMEZONE
BEGIN:VEVENT
DTSTART;TZID=Asia/Dubai:20231209T183000
DTEND;TZID=Asia/Dubai:20231209T200000
DTSTAMP:20260424T154047
CREATED:20231130T100835Z
LAST-MODIFIED:20231130T100835Z
UID:9980-1702146600-1702152000@becomethechange.co
SUMMARY:NEW MOON CACAO SOUND & QIGONG EXPERIENCE
DESCRIPTION:Harness the energy of the New Moon for new beginnings by setting intentions and connecting to your heart’s wishes during an enchanting Cacao Ceremony. \nLet go of what no longer serves you to create space to fill your heart with love and gratitude. Experience the cacao merging with your body in a gentle yet vitalizing Qigong practice. \nWe combine breathwork and graceful movements to alleviate stress and replenish energy. \nSIGN UP HERE
URL:https://becomethechange.co/event/new-moon-cacao-sound-qigong-experience/
LOCATION:Just Be Wellbeing Center\, 102 Al Woushar St - Umm Suqeim\, Dubai\, Dubai\, United Arab Emirates
CATEGORIES:In Person
ATTACH;FMTTYPE=image/png:https://becomethechange.co/wp-content/uploads/2023/05/Cacao-Image.png
END:VEVENT
END:VCALENDAR