
BEGIN:VCALENDAR
VERSION:2.0
PRODID:-//Become The Change - ECPv5.16.2.1//NONSGML v1.0//EN
CALSCALE:GREGORIAN
METHOD:PUBLISH
X-ORIGINAL-URL:https://becomethechange.co
X-WR-CALDESC:Events for Become The Change
REFRESH-INTERVAL;VALUE=DURATION:PT1H
X-Robots-Tag:noindex
X-PUBLISHED-TTL:PT1H
BEGIN:VTIMEZONE
TZID:Asia/Dubai
BEGIN:STANDARD
TZOFFSETFROM:+0400
TZOFFSETTO:+0400
TZNAME:+04
DTSTART:20230101T000000
END:STANDARD
END:VTIMEZONE
BEGIN:VEVENT
DTSTART;TZID=Asia/Dubai:20231207T183000
DTEND;TZID=Asia/Dubai:20231207T203000
DTSTAMP:20260424T154654
CREATED:20231130T101520Z
LAST-MODIFIED:20231130T101520Z
UID:9982-1701973800-1701981000@becomethechange.co
SUMMARY:THE MYSTICAL PRACTICE OF TAO YIN - WORKSHOP
DESCRIPTION:Journey into an ancient practice called Tao Yin to connect to our mind\, heart and body. \nGentle yet deep stretches are combined with flowing movements to create an embodied mindfulness practice. Leaving you feeling revitalized and tranquil. \nLearn about your Qi (life force energy) and how to guide and direct it through the mind and body; discover acupressure points for self-massage; and bring strength and flexibility into your joints and muscles. \nEnding with a relaxing meditation to bring harmony into your entire being. \nSIGN UP HERE
URL:https://becomethechange.co/event/the-mystical-practice-of-tao-yin-workshop/
LOCATION:Soulside Studio\, JLT\, United Arab Emirates
CATEGORIES:In Person
ATTACH;FMTTYPE=image/png:https://becomethechange.co/wp-content/uploads/2023/08/Tao-Yin.png
END:VEVENT
END:VCALENDAR