
BEGIN:VCALENDAR
VERSION:2.0
PRODID:-//Become The Change - ECPv5.16.2.1//NONSGML v1.0//EN
CALSCALE:GREGORIAN
METHOD:PUBLISH
X-ORIGINAL-URL:https://becomethechange.co
X-WR-CALDESC:Events for Become The Change
REFRESH-INTERVAL;VALUE=DURATION:PT1H
X-Robots-Tag:noindex
X-PUBLISHED-TTL:PT1H
BEGIN:VTIMEZONE
TZID:Asia/Dubai
BEGIN:STANDARD
TZOFFSETFROM:+0400
TZOFFSETTO:+0400
TZNAME:+04
DTSTART:20230101T000000
END:STANDARD
END:VTIMEZONE
BEGIN:VEVENT
DTSTART;TZID=Asia/Dubai:20231201T191500
DTEND;TZID=Asia/Dubai:20231201T201500
DTSTAMP:20260424T154655
CREATED:20231130T092006Z
LAST-MODIFIED:20231130T092006Z
UID:9948-1701458100-1701461700@becomethechange.co
SUMMARY:RESTORE & MEDITATE BY CANDLELIGHT
DESCRIPTION:Wind down from the day and ease into the evening with soothing stretches to release stress\, tension and tightness. Followed by a guided Meditation for complete relaxation of the mind\, body and soul\, accompanied by the soft vibrations of the singing bowl\, amongst the soft glow of candlelight. \nYoga Nidra is a gentle yet powerful relaxation and awareness practice. \nAlso known as “Yogic Sleep”\, this meditation technique differs from others\, as the focus is on complete relaxation\, whilst being guided into the state of consciousness between wakefulness and sleeping. \nFrom this deeply relaxing place you will find your mind becoming clearer\, your heart calmer and your body restored. \nSIGN UP HERE
URL:https://becomethechange.co/event/restore-meditate-by-candlelight-26/
LOCATION:Akasa Wellness\, Loft Offices building 2 - G05\, Dubai\, United Arab Emirates
CATEGORIES:In Person
ATTACH;FMTTYPE=image/png:https://becomethechange.co/wp-content/uploads/2023/05/Yoga-Nidra-2.png
END:VEVENT
END:VCALENDAR