
BEGIN:VCALENDAR
VERSION:2.0
PRODID:-//Become The Change - ECPv5.16.2.1//NONSGML v1.0//EN
CALSCALE:GREGORIAN
METHOD:PUBLISH
X-WR-CALNAME:Become The Change
X-ORIGINAL-URL:https://becomethechange.co
X-WR-CALDESC:Events for Become The Change
REFRESH-INTERVAL;VALUE=DURATION:PT1H
X-Robots-Tag:noindex
X-PUBLISHED-TTL:PT1H
BEGIN:VTIMEZONE
TZID:UTC
BEGIN:STANDARD
TZOFFSETFROM:+0000
TZOFFSETTO:+0000
TZNAME:UTC
DTSTART:20230101T000000
END:STANDARD
END:VTIMEZONE
BEGIN:VEVENT
DTSTART;TZID=UTC:20231127T180000
DTEND;TZID=UTC:20231127T190000
DTSTAMP:20260424T154038
CREATED:20231031T121938Z
LAST-MODIFIED:20231031T121938Z
UID:8153-1701108000-1701111600@becomethechange.co
SUMMARY:RESTORATIVE TAO YIN
DESCRIPTION:Tao Yin is where the ancient philosophy of Yoga and Qigong meet.\nWith relaxing stretching and flowing floor movements you will learn how to guide and direct your Qi (life force energy)\, through the mind and body\, connect to your meridians and unlock tension and tightness. \nBecome one with the power and light within you. \nBook HERE
URL:https://becomethechange.co/event/restorative-tao-yin-5/
LOCATION:Truth Yoga\, sunset mall\, Dubai\, United Arab Emirates
CATEGORIES:In Person
ATTACH;FMTTYPE=image/png:https://becomethechange.co/wp-content/uploads/2023/09/Tao-Yin-Photo.png
END:VEVENT
BEGIN:VEVENT
DTSTART;TZID=UTC:20231127T194500
DTEND;TZID=UTC:20231127T204500
DTSTAMP:20260424T154038
CREATED:20231031T121440Z
LAST-MODIFIED:20231031T121440Z
UID:8146-1701114300-1701117900@becomethechange.co
SUMMARY:RESTORE & MEDITATE BY CANDLELIGHT
DESCRIPTION:Wind down from the day and ease into the evening with soothing stretches to release stress\, tension and tightness. Followed by a guided Meditation for complete relaxation of the mind\, body and soul\, accompanied by the soft vibrations of the singing bowl\, amongst the soft glow of candlelight. \nYoga Nidra is a gentle yet powerful relaxation and awareness practice. \nAlso known as “Yogic Sleep”\, this meditation technique differs from others\, as the focus is on complete relaxation\, whilst being guided into the state of consciousness between wakefulness and sleeping. \nFrom this deeply relaxing place you will find your mind becoming clearer\, your heart calmer and your body restored. \nSIGN UP HERE
URL:https://becomethechange.co/event/restore-meditate-by-candlelight-25/
LOCATION:Akasa Wellness\, Loft Offices building 2 - G05\, Dubai\, United Arab Emirates
CATEGORIES:In Person
ATTACH;FMTTYPE=image/png:https://becomethechange.co/wp-content/uploads/2023/05/Yoga-Nidra-2.png
END:VEVENT
END:VCALENDAR