
BEGIN:VCALENDAR
VERSION:2.0
PRODID:-//Become The Change - ECPv5.16.2.1//NONSGML v1.0//EN
CALSCALE:GREGORIAN
METHOD:PUBLISH
X-WR-CALNAME:Become The Change
X-ORIGINAL-URL:https://becomethechange.co
X-WR-CALDESC:Events for Become The Change
REFRESH-INTERVAL;VALUE=DURATION:PT1H
X-Robots-Tag:noindex
X-PUBLISHED-TTL:PT1H
BEGIN:VTIMEZONE
TZID:UTC
BEGIN:STANDARD
TZOFFSETFROM:+0000
TZOFFSETTO:+0000
TZNAME:UTC
DTSTART:20230101T000000
END:STANDARD
END:VTIMEZONE
BEGIN:VEVENT
DTSTART;TZID=UTC:20231126T173000
DTEND;TZID=UTC:20231126T184500
DTSTAMP:20260424T171954
CREATED:20231031T123106Z
LAST-MODIFIED:20231031T123106Z
UID:8162-1701019800-1701024300@becomethechange.co
SUMMARY:(OPTIONAL RED LIGHT) TAO YIN STRETCH & FLOW
DESCRIPTION:“Qi flows where the mind goes” – learn how to guide and direct your Qi (life force energy)\, through the mind and body\, with deep stretching and flowing. \nTao Yin is an ancient practice discovered by accident by cave excavators looking for treasure in 160BC. It is the ancestor of Yoga and Qigong. \nTao Yin means to guide and direct the life force energy through the body and mind using specific channel meridians. Using the breath\, the body\, and the mind to circulate the Qi energy within us all. \nThis session can be practiced with the option of using Red Light Therapy Yoga Mats. Helping to relieve joint and muscle pain. \nBook HERE
URL:https://becomethechange.co/event/optional-red-light-tao-yin-stretch-flow-4/
LOCATION:Truth Yoga\, sunset mall\, Dubai\, United Arab Emirates
CATEGORIES:In Person
ATTACH;FMTTYPE=image/png:https://becomethechange.co/wp-content/uploads/2023/08/Tao-Yin.png
END:VEVENT
BEGIN:VEVENT
DTSTART;TZID=UTC:20231126T193000
DTEND;TZID=UTC:20231126T210000
DTSTAMP:20260424T171954
CREATED:20231031T115905Z
LAST-MODIFIED:20231101T053759Z
UID:8134-1701027000-1701032400@becomethechange.co
SUMMARY:FULL MOON QIGONG & CACAO CEREMONY
DESCRIPTION:Connect to the cacao spirit and open your heart to gratitude and love\, with a beautiful Cacao Ceremony. \nEnjoy the power and grace of a traditional sequence of Qigong movements. Qigong is a gentle yet transformative health and wellness practice that involves breathwork\, flowing movements and intention. \nThese practices combined help to reduce stress and tension whilst increasing energy. \nSIGN UP HERE
URL:https://becomethechange.co/event/full-moon-qigong-cacao-ceremony-2/
LOCATION:Just Be Wellbeing Center\, 102 Al Woushar St - Umm Suqeim\, Dubai\, Dubai\, United Arab Emirates
CATEGORIES:In Person
ATTACH;FMTTYPE=image/png:https://becomethechange.co/wp-content/uploads/2022/09/Full-Moon.png
END:VEVENT
END:VCALENDAR