
BEGIN:VCALENDAR
VERSION:2.0
PRODID:-//Become The Change - ECPv5.16.2.1//NONSGML v1.0//EN
CALSCALE:GREGORIAN
METHOD:PUBLISH
X-ORIGINAL-URL:https://becomethechange.co
X-WR-CALDESC:Events for Become The Change
REFRESH-INTERVAL;VALUE=DURATION:PT1H
X-Robots-Tag:noindex
X-PUBLISHED-TTL:PT1H
BEGIN:VTIMEZONE
TZID:UTC
BEGIN:STANDARD
TZOFFSETFROM:+0000
TZOFFSETTO:+0000
TZNAME:UTC
DTSTART:20230101T000000
END:STANDARD
END:VTIMEZONE
BEGIN:VEVENT
DTSTART;VALUE=DATE:20231119
DTEND;VALUE=DATE:20231126
DTSTAMP:20260424T171034
CREATED:20230523T095501Z
LAST-MODIFIED:20230523T095501Z
UID:7672-1700352000-1700956799@becomethechange.co
SUMMARY:BALI MEDITATION RETREAT
DESCRIPTION:Join me in Bali for and dive into a majestic journey through meditation\, in a paradise haven\, set amongst the rice fields of Ubud.\n✨Enjoy a deep connection with your body\, mind and soul on this special island. Become one with the power and light within you ✨\nHere’s what’s happening:\n🌺 Location – A serene location\, amongst the rice fields of Ubud. Private bedroom and Bathroom\, Pool\, Spa\, Restaurant – exclusively ours for the retreat. Meditations will take place in a Shala overlooking the rice fields.\n🚗 A short drive from Ubud which has plenty to do including visiting a Monkey Forest. Take a stroll around the many shops and cafes. A free shuttle runs to and from the resort.\n🌺 6 Nights in Accommodation with Pool\n🌺 All Breakfasts & Dinners Plus 2 Lunches\n🌺 Daily Qigong – Ancient Movement Meditation\n🌺 Osho Active Meditations\n🌺 Yoga Nidra Meditation\n🌺 Water Healing Ceremony\n🌺 Fire Healing Ceremony\n🌺 Pyramids of Chi – Sound Healing Ceremony\n🌺 Mala Bead Ceremony\n🌺 One 60 Minute Massage\n🌺 Visit to Cave Waterfall & Besakih Temple\n💸 Cost For Early Bird Until 15 July 2023\nPrivate Room $1700\nCouples or Twin Sharing $3000 (per room).\nIncludes ALL of the above. Does not include flight or visa. You must be vaccinated to enter Bali. \nFor more details contact me HERE
URL:https://becomethechange.co/event/bali-meditation-retreat/
CATEGORIES:In Person
ATTACH;FMTTYPE=image/jpeg:https://becomethechange.co/wp-content/uploads/2023/02/bali_retreat.jpg
END:VEVENT
END:VCALENDAR