
BEGIN:VCALENDAR
VERSION:2.0
PRODID:-//Become The Change - ECPv5.16.2.1//NONSGML v1.0//EN
CALSCALE:GREGORIAN
METHOD:PUBLISH
X-ORIGINAL-URL:https://becomethechange.co
X-WR-CALDESC:Events for Become The Change
REFRESH-INTERVAL;VALUE=DURATION:PT1H
X-Robots-Tag:noindex
X-PUBLISHED-TTL:PT1H
BEGIN:VTIMEZONE
TZID:Asia/Dubai
BEGIN:STANDARD
TZOFFSETFROM:+0400
TZOFFSETTO:+0400
TZNAME:+04
DTSTART:20230101T000000
END:STANDARD
END:VTIMEZONE
BEGIN:VEVENT
DTSTART;TZID=Asia/Dubai:20231028T183000
DTEND;TZID=Asia/Dubai:20231028T200000
DTSTAMP:20260424T191424
CREATED:20231006T132332Z
LAST-MODIFIED:20231017T095412Z
UID:7891-1698517800-1698523200@becomethechange.co
SUMMARY:FULL MOON QIGONG & CACAO & CEREMONY
DESCRIPTION:Connect to the cacao spirit and open your heart to gratitude and love\, with a beautiful Cacao Ceremony. \nEnjoy the power and grace of a traditional sequence of Qigong movements. Qigong is a gentle yet transformative health and wellness practice that involves breathwork\, flowing movements and intention. \nThese practices combined help to reduce stress and tension whilst increasing energy. \nSIGN UP HERE
URL:https://becomethechange.co/event/full-moon-qigong-cacao-ceremony/
LOCATION:Truth Yoga\, sunset mall\, Dubai\, United Arab Emirates
CATEGORIES:In Person
ATTACH;FMTTYPE=image/png:https://becomethechange.co/wp-content/uploads/2022/09/Full-Moon.png
END:VEVENT
END:VCALENDAR