
BEGIN:VCALENDAR
VERSION:2.0
PRODID:-//Become The Change - ECPv5.16.2.1//NONSGML v1.0//EN
CALSCALE:GREGORIAN
METHOD:PUBLISH
X-ORIGINAL-URL:https://becomethechange.co
X-WR-CALDESC:Events for Become The Change
REFRESH-INTERVAL;VALUE=DURATION:PT1H
X-Robots-Tag:noindex
X-PUBLISHED-TTL:PT1H
BEGIN:VTIMEZONE
TZID:Asia/Dubai
BEGIN:STANDARD
TZOFFSETFROM:+0400
TZOFFSETTO:+0400
TZNAME:+04
DTSTART:20230101T000000
END:STANDARD
END:VTIMEZONE
BEGIN:VEVENT
DTSTART;TZID=Asia/Dubai:20231015T180000
DTEND;TZID=Asia/Dubai:20231015T191500
DTSTAMP:20260424T191510
CREATED:20231006T133833Z
LAST-MODIFIED:20231006T133833Z
UID:7899-1697392800-1697397300@becomethechange.co
SUMMARY:(OPTIONAL RED LIGHT)TAO YIN STRETCH & FLOW
DESCRIPTION:“Qi flows where the mind goes” – learn how to guide and direct your Qi (life force energy)\, through the mind and body\, with deep stretching and flowing. \nTao Yin is an ancient practice discovered by accident by cave excavators looking for treasure in 160BC. It is the ancestor of Yoga and Qigong. \nTao Yin means to guide and direct the life force energy through the body and mind using specific channel meridians. Using the breath\, the body\, and the mind to circulate the Qi energy within us all. \nThis session can be practiced with the option of using Red Light Therapy Yoga Mats. Helping to relieve joint and muscle pain. \nBook HERE
URL:https://becomethechange.co/event/optional-red-lighttao-yin-stretch-flow/
LOCATION:Truth Yoga\, sunset mall\, Dubai\, United Arab Emirates
CATEGORIES:In Person
ATTACH;FMTTYPE=image/png:https://becomethechange.co/wp-content/uploads/2023/08/Tao-Yin.png
END:VEVENT
END:VCALENDAR