
BEGIN:VCALENDAR
VERSION:2.0
PRODID:-//Become The Change - ECPv5.16.2.1//NONSGML v1.0//EN
CALSCALE:GREGORIAN
METHOD:PUBLISH
X-WR-CALNAME:Become The Change
X-ORIGINAL-URL:https://becomethechange.co
X-WR-CALDESC:Events for Become The Change
REFRESH-INTERVAL;VALUE=DURATION:PT1H
X-Robots-Tag:noindex
X-PUBLISHED-TTL:PT1H
BEGIN:VTIMEZONE
TZID:UTC
BEGIN:STANDARD
TZOFFSETFROM:+0000
TZOFFSETTO:+0000
TZNAME:UTC
DTSTART:20230101T000000
END:STANDARD
END:VTIMEZONE
BEGIN:VEVENT
DTSTART;TZID=UTC:20230913T190000
DTEND;TZID=UTC:20230913T203000
DTSTAMP:20260424T210113
CREATED:20230911T115146Z
LAST-MODIFIED:20230911T115146Z
UID:7831-1694631600-1694637000@becomethechange.co
SUMMARY:NEW MOON INTENTION SETTING WITH QIGONG\, MEDITATION & SOUND HEALING
DESCRIPTION:Join us for an evening of intention setting with Qigong\, Yoga Nidra Meditation and Sound Healing. \nTogether we will take you on a journey where you will be guided to plant seeds of intention through deepening laters of your awareness. \nThe energy felt from the New Moon combines with complete relaxation and healing sounds\, will help you close the door on the past and usher in a new beginning. \nSIGN UP HERE Contact Us
URL:https://becomethechange.co/event/new-moon-intention-setting-with-qigong-meditation-sound-healing/
LOCATION:Just Be Wellbeing Center\, 102 Al Woushar St - Umm Suqeim\, Dubai\, Dubai\, United Arab Emirates
CATEGORIES:In Person
ATTACH;FMTTYPE=image/png:https://becomethechange.co/wp-content/uploads/2023/06/Sound-HEaling.png
END:VEVENT
END:VCALENDAR