
BEGIN:VCALENDAR
VERSION:2.0
PRODID:-//Become The Change - ECPv5.16.2.1//NONSGML v1.0//EN
CALSCALE:GREGORIAN
METHOD:PUBLISH
X-ORIGINAL-URL:https://becomethechange.co
X-WR-CALDESC:Events for Become The Change
REFRESH-INTERVAL;VALUE=DURATION:PT1H
X-Robots-Tag:noindex
X-PUBLISHED-TTL:PT1H
BEGIN:VTIMEZONE
TZID:UTC
BEGIN:STANDARD
TZOFFSETFROM:+0000
TZOFFSETTO:+0000
TZNAME:UTC
DTSTART:20230101T000000
END:STANDARD
END:VTIMEZONE
BEGIN:VEVENT
DTSTART;TZID=UTC:20230813T130000
DTEND;TZID=UTC:20230813T140000
DTSTAMP:20260424T230442
CREATED:20230801T101026Z
LAST-MODIFIED:20230801T101026Z
UID:7807-1691931600-1691935200@becomethechange.co
SUMMARY:BREAK UP SUPPORT SESSION
DESCRIPTION:“New beginnings follow an ending” If you are struggling to find your way through a break up or any type of loss join our Free Online Support Session. \nWe all grieve in our own unique way and we will listen to your story\, you will connect with others\, and learn some tools to help navigate your loss and move it through your body. \nShow yourself some compassion and join us. \nSIGN UP HEREContact Us \n 
URL:https://becomethechange.co/event/break-up-support-session/
CATEGORIES:Online
ATTACH;FMTTYPE=image/png:https://becomethechange.co/wp-content/uploads/2023/07/Peaceful.png
END:VEVENT
BEGIN:VEVENT
DTSTART;TZID=UTC:20230813T184500
DTEND;TZID=UTC:20230813T200000
DTSTAMP:20260424T230442
CREATED:20230731T135920Z
LAST-MODIFIED:20230731T135920Z
UID:7799-1691952300-1691956800@becomethechange.co
SUMMARY:TAO YIN STRETCH & FLOW
DESCRIPTION:“Qi flows where the mind goes” – learn how to guide and direct your Qi (life force energy)\, through the mind and body\, with deep stretching and flowing. \nTao Yin is an ancient practice discovered by accident by cave excavators looking for treasure in 160BC. It is the ancestor of Yoga and Qigong. \nTao Yin means to guide and direct the life force energy through the body and mind using specific channel meridians. Using the breath\, the body\, and the mind to circulate the Qi energy within us all. \nConnect to your Qi. Be empowered. \nBook HERE
URL:https://becomethechange.co/event/tao-yin-stretch-flow-3/
LOCATION:Truth Yoga\, sunset mall\, Dubai\, United Arab Emirates
CATEGORIES:In Person
ATTACH;FMTTYPE=image/png:https://becomethechange.co/wp-content/uploads/2023/07/Yin-Yang.png
END:VEVENT
END:VCALENDAR