
BEGIN:VCALENDAR
VERSION:2.0
PRODID:-//Become The Change - ECPv5.16.2.1//NONSGML v1.0//EN
CALSCALE:GREGORIAN
METHOD:PUBLISH
X-WR-CALNAME:Become The Change
X-ORIGINAL-URL:https://becomethechange.co
X-WR-CALDESC:Events for Become The Change
REFRESH-INTERVAL;VALUE=DURATION:PT1H
X-Robots-Tag:noindex
X-PUBLISHED-TTL:PT1H
BEGIN:VTIMEZONE
TZID:UTC
BEGIN:STANDARD
TZOFFSETFROM:+0000
TZOFFSETTO:+0000
TZNAME:UTC
DTSTART:20230101T000000
END:STANDARD
END:VTIMEZONE
BEGIN:VEVENT
DTSTART;TZID=UTC:20230802T190000
DTEND;TZID=UTC:20230802T200000
DTSTAMP:20260424T230319
CREATED:20230801T102259Z
LAST-MODIFIED:20230801T102259Z
UID:7813-1691002800-1691006400@becomethechange.co
SUMMARY:TAO YIN YOGA
DESCRIPTION:Yin yoga\, largely inspired by Chinese traditional medicine with the view to release tension being held in the body and mind. \nDuring this practice we will work deep into the tissues\, facia\, tendons and ligaments with poses that are held for longer periods of time (with a passive approach). \nThis allows the practice to work deeply into the body\, release tension and lubricate the joints. Meanwhile\, allowing the nervous system to fully reset. \nExpect softness\, stillness\, lots of props and to leave feeling rejuvenated. \nThis is a meditative and quiet practice\, suitable for students of all levels and experiences. \nSIGN UP HERE
URL:https://becomethechange.co/event/tao-yin-yoga/
LOCATION:Truth Yoga\, sunset mall\, Dubai\, United Arab Emirates
CATEGORIES:In Person
ATTACH;FMTTYPE=image/png:https://becomethechange.co/wp-content/uploads/2023/08/Tao-Yin.png
END:VEVENT
END:VCALENDAR