
BEGIN:VCALENDAR
VERSION:2.0
PRODID:-//Become The Change - ECPv5.16.2.1//NONSGML v1.0//EN
CALSCALE:GREGORIAN
METHOD:PUBLISH
X-WR-CALNAME:Become The Change
X-ORIGINAL-URL:https://becomethechange.co
X-WR-CALDESC:Events for Become The Change
REFRESH-INTERVAL;VALUE=DURATION:PT1H
X-Robots-Tag:noindex
X-PUBLISHED-TTL:PT1H
BEGIN:VTIMEZONE
TZID:UTC
BEGIN:STANDARD
TZOFFSETFROM:+0000
TZOFFSETTO:+0000
TZNAME:UTC
DTSTART:20230101T000000
END:STANDARD
END:VTIMEZONE
BEGIN:VEVENT
DTSTART;TZID=UTC:20230731T150000
DTEND;TZID=UTC:20230731T153000
DTSTAMP:20260424T231015
CREATED:20230731T104736Z
LAST-MODIFIED:20230731T104736Z
UID:7764-1690815600-1690817400@becomethechange.co
SUMMARY:ONLINE QIGONG
DESCRIPTION:Qigong is a gentle yet transformative movement practice that dates back thousands of years. It is the art of effortless power which helps reduce stress and tension whilst increasing energy. \nIn our weekly Online Qigong classes you will tap into this power from within you\, with gentle flowing movements\, breathwork and intention. \nYou will learn how to move your Qi (life force energy) and then let it move you.
URL:https://becomethechange.co/event/online-qigong-7/
CATEGORIES:Online
ATTACH;FMTTYPE=image/png:https://becomethechange.co/wp-content/uploads/2023/07/Qi-2.png
END:VEVENT
BEGIN:VEVENT
DTSTART;TZID=UTC:20230731T193000
DTEND;TZID=UTC:20230731T203000
DTSTAMP:20260424T231015
CREATED:20230523T101757Z
LAST-MODIFIED:20230523T101757Z
UID:7680-1690831800-1690835400@becomethechange.co
SUMMARY:RESTORE & MEDITATE BY CANDLELIGHT
DESCRIPTION:Wind down from the day and ease into the evening with soothing stretches to release stress\, tension and tightness. Followed by a guided Meditation for complete relaxation of the mind\, body and soul\, accompanied by the soft vibrations of the singing bowl\, amongst the soft glow of candlelight. \nYoga Nidra is a gentle yet powerful relaxation and awareness practice. \nAlso known as “Yogic Sleep”\, this meditation technique differs from others\, as the focus is on complete relaxation\, whilst being guided into the state of consciousness between wakefulness and sleeping. \nFrom this deeply relaxing place you will find your mind becoming clearer\, your heart calmer and your body restored. \nSIGN UP HERE
URL:https://becomethechange.co/event/restore-meditate-by-candlelight-3/
LOCATION:Akasa Wellness\, Loft Offices building 2 - G05\, Dubai\, United Arab Emirates
CATEGORIES:In Person
ATTACH;FMTTYPE=image/png:https://becomethechange.co/wp-content/uploads/2023/05/Yoga-Nidra-2.png
END:VEVENT
END:VCALENDAR