
BEGIN:VCALENDAR
VERSION:2.0
PRODID:-//Become The Change - ECPv5.16.2.1//NONSGML v1.0//EN
CALSCALE:GREGORIAN
METHOD:PUBLISH
X-ORIGINAL-URL:https://becomethechange.co
X-WR-CALDESC:Events for Become The Change
REFRESH-INTERVAL;VALUE=DURATION:PT1H
X-Robots-Tag:noindex
X-PUBLISHED-TTL:PT1H
BEGIN:VTIMEZONE
TZID:UTC
BEGIN:STANDARD
TZOFFSETFROM:+0000
TZOFFSETTO:+0000
TZNAME:UTC
DTSTART:20230101T000000
END:STANDARD
END:VTIMEZONE
BEGIN:VEVENT
DTSTART;TZID=UTC:20230729T170000
DTEND;TZID=UTC:20230729T183000
DTSTAMP:20260425T004823
CREATED:20230523T072915Z
LAST-MODIFIED:20230724T142151Z
UID:7663-1690650000-1690655400@becomethechange.co
SUMMARY:OPEN HEARTEDNESS WITH CACAO & QIGONG
DESCRIPTION:Connect to the cacao spirit and open your heart to gratitude and love\, with a beautiful Cacao Ceremony. \nEnjoy the power and grace of a traditional sequence of Qigong movements. Qigong is a gentle yet transformative health and wellness practice that involves breathwork\, flowing movements and intention. It is the art of effortless power which helps reduce stress and tension whilst increasing energy. \nClosing the experience with a Guided Meditation that will connect you even deeper to your Heart energy. \nSign Up HERE
URL:https://becomethechange.co/event/discover-your-element-with-five-elements-qigong/
LOCATION:Truth Yoga\, sunset mall\, Dubai\, United Arab Emirates
CATEGORIES:In Person
ATTACH;FMTTYPE=image/png:https://becomethechange.co/wp-content/uploads/2023/05/Cacao-Image.png
END:VEVENT
END:VCALENDAR