
BEGIN:VCALENDAR
VERSION:2.0
PRODID:-//Become The Change - ECPv5.16.2.1//NONSGML v1.0//EN
CALSCALE:GREGORIAN
METHOD:PUBLISH
X-ORIGINAL-URL:https://becomethechange.co
X-WR-CALDESC:Events for Become The Change
REFRESH-INTERVAL;VALUE=DURATION:PT1H
X-Robots-Tag:noindex
X-PUBLISHED-TTL:PT1H
BEGIN:VTIMEZONE
TZID:UTC
BEGIN:STANDARD
TZOFFSETFROM:+0000
TZOFFSETTO:+0000
TZNAME:UTC
DTSTART:20230101T000000
END:STANDARD
END:VTIMEZONE
BEGIN:VEVENT
DTSTART;TZID=UTC:20230717T193000
DTEND;TZID=UTC:20230717T203000
DTSTAMP:20260425T005349
CREATED:20230523T071351Z
LAST-MODIFIED:20230523T071351Z
UID:7661-1689622200-1689625800@becomethechange.co
SUMMARY:NEW MOON RESTORE & MEDITATE WITH CANDLELIGHT
DESCRIPTION:New Moon is a wonderful time to explore your inner world and plant seeds of intention. \nWind down with soothing stretches under the soft glow of the candlelight\, you will then set your intentions with a Guided Yoga Nidra Meditation\, accompanied by the soft vibrations of the singing bowl. \nReady to welcome in new beginnings. \nSign Up HERE
URL:https://becomethechange.co/event/new-moon-restore-meditate-with-candlelight/
LOCATION:Akasa Wellness\, Loft Offices building 2 - G05\, Dubai\, United Arab Emirates
CATEGORIES:In Person
ATTACH;FMTTYPE=image/jpeg:https://becomethechange.co/wp-content/uploads/2022/09/New-Moon-Image-scaled.jpg
END:VEVENT
END:VCALENDAR