
BEGIN:VCALENDAR
VERSION:2.0
PRODID:-//Become The Change - ECPv5.16.2.1//NONSGML v1.0//EN
CALSCALE:GREGORIAN
METHOD:PUBLISH
X-ORIGINAL-URL:https://becomethechange.co
X-WR-CALDESC:Events for Become The Change
REFRESH-INTERVAL;VALUE=DURATION:PT1H
X-Robots-Tag:noindex
X-PUBLISHED-TTL:PT1H
BEGIN:VTIMEZONE
TZID:Europe/Helsinki
BEGIN:DAYLIGHT
TZOFFSETFROM:+0200
TZOFFSETTO:+0300
TZNAME:EEST
DTSTART:20230326T010000
END:DAYLIGHT
BEGIN:STANDARD
TZOFFSETFROM:+0300
TZOFFSETTO:+0200
TZNAME:EET
DTSTART:20231029T010000
END:STANDARD
END:VTIMEZONE
BEGIN:VEVENT
DTSTART;TZID=Europe/Helsinki:20230709T170000
DTEND;TZID=Europe/Helsinki:20230709T183000
DTSTAMP:20260425T005454
CREATED:20230523T073434Z
LAST-MODIFIED:20230612T073727Z
UID:7667-1688922000-1688927400@becomethechange.co
SUMMARY:OPENHEARTEDNESS WITH CACAO & QIGONG - IBIZA WORKSHOP
DESCRIPTION:Connect to the cacao spirit and open your heart to gratitude and love\, with a beautiful Cacao Ceremony. \nEnjoy the power and grace of a traditional sequence of Qigong movements. \nQigong is a gentle yet transformative health and wellness practice that involves breathwork\, flowing movements and intention. It is the art of effortless power which helps reduce stress and tension whilst increasing energy. \nClosing the experience with a Deep Guided Meditation that will connect you even deeper to your Heart energy. \n\n\nSign Up HERE
URL:https://becomethechange.co/event/discover-your-element-with-five-elements-qigong-ibiza-workshop/
LOCATION:Laulima Dome Ibiza\, Sant Joan
CATEGORIES:In Person
ATTACH;FMTTYPE=image/png:https://becomethechange.co/wp-content/uploads/2023/05/Cacao-Image.png
END:VEVENT
END:VCALENDAR