
BEGIN:VCALENDAR
VERSION:2.0
PRODID:-//Become The Change - ECPv5.16.2.1//NONSGML v1.0//EN
CALSCALE:GREGORIAN
METHOD:PUBLISH
X-WR-CALNAME:Become The Change
X-ORIGINAL-URL:https://becomethechange.co
X-WR-CALDESC:Events for Become The Change
REFRESH-INTERVAL;VALUE=DURATION:PT1H
X-Robots-Tag:noindex
X-PUBLISHED-TTL:PT1H
BEGIN:VTIMEZONE
TZID:UTC
BEGIN:STANDARD
TZOFFSETFROM:+0000
TZOFFSETTO:+0000
TZNAME:UTC
DTSTART:20230101T000000
END:STANDARD
END:VTIMEZONE
BEGIN:VEVENT
DTSTART;TZID=UTC:20230605T193000
DTEND;TZID=UTC:20230605T203000
DTSTAMP:20260425T024315
CREATED:20230522T105940Z
LAST-MODIFIED:20230523T102655Z
UID:7644-1685993400-1685997000@becomethechange.co
SUMMARY:FULL MOON RESTORE & MEDITATE BY CANDLELIGHT
DESCRIPTION:Immerse yourself in the gentle glow of candlelight as you restore and meditate under the radiant Full Strawberry Moon. Let the soothing stretches melt away stress\, tension and tightness. \nFollowed by a guided Meditation for complete relaxation of the mind\, body and soul\, accompanied by the soft vibrations of the singing bowl. \nYoga Nidra is a gentle yet powerful relaxation and awareness practice. \nAlso known as “Yogic Sleep”\, this meditation technique differs from others\, as the focus is on complete relaxation\, whilst being guided into the state of consciousness between wakefulness and sleeping. \nFrom this deeply relaxing place you will find your mind becoming clearer\, your heart calmer and your body restored. \nSIGN UP HERE
URL:https://becomethechange.co/event/full-moon-restore-meditate-with-candlelight/
LOCATION:Akasa Wellness\, Loft Offices building 2 - G05\, Dubai\, United Arab Emirates
CATEGORIES:In Person
ATTACH;FMTTYPE=image/png:https://becomethechange.co/wp-content/uploads/2022/09/Full-Moon.png
END:VEVENT
END:VCALENDAR