
BEGIN:VCALENDAR
VERSION:2.0
PRODID:-//Become The Change - ECPv5.16.2.1//NONSGML v1.0//EN
CALSCALE:GREGORIAN
METHOD:PUBLISH
X-ORIGINAL-URL:https://becomethechange.co
X-WR-CALDESC:Events for Become The Change
REFRESH-INTERVAL;VALUE=DURATION:PT1H
X-Robots-Tag:noindex
X-PUBLISHED-TTL:PT1H
BEGIN:VTIMEZONE
TZID:UTC
BEGIN:STANDARD
TZOFFSETFROM:+0000
TZOFFSETTO:+0000
TZNAME:UTC
DTSTART:20230101T000000
END:STANDARD
END:VTIMEZONE
BEGIN:VEVENT
DTSTART;TZID=UTC:20230128T170000
DTEND;TZID=UTC:20230128T183000
DTSTAMP:20260425T112419
CREATED:20230117T155919Z
LAST-MODIFIED:20230117T163556Z
UID:6746-1674925200-1674930600@becomethechange.co
SUMMARY:OSHO KUNDALINI MEDITATION
DESCRIPTION:Osho Kundalini Meditation is a shaking and dancing meditation that helps stuck energy to flow and move emotions into bliss and joy. Ending with intuitive card readings. \nIt is active\, playful\, heart full and transformative. \nSign Up Contact Us
URL:https://becomethechange.co/event/osho-kundalini-meditation/
LOCATION:Just Be Wellbeing Center\, 102 Al Woushar St - Umm Suqeim\, Dubai\, Dubai\, United Arab Emirates
CATEGORIES:In Person
ATTACH;FMTTYPE=image/png:https://becomethechange.co/wp-content/uploads/2023/01/Amy-Shake.png
END:VEVENT
END:VCALENDAR