
BEGIN:VCALENDAR
VERSION:2.0
PRODID:-//Become The Change - ECPv5.16.2.1//NONSGML v1.0//EN
CALSCALE:GREGORIAN
METHOD:PUBLISH
X-ORIGINAL-URL:https://becomethechange.co
X-WR-CALDESC:Events for Become The Change
REFRESH-INTERVAL;VALUE=DURATION:PT1H
X-Robots-Tag:noindex
X-PUBLISHED-TTL:PT1H
BEGIN:VTIMEZONE
TZID:UTC
BEGIN:STANDARD
TZOFFSETFROM:+0000
TZOFFSETTO:+0000
TZNAME:UTC
DTSTART:20230101T000000
END:STANDARD
END:VTIMEZONE
BEGIN:VEVENT
DTSTART;TZID=UTC:20230119T190000
DTEND;TZID=UTC:20230119T203000
DTSTAMP:20260425T114604
CREATED:20230117T154827Z
LAST-MODIFIED:20230117T163637Z
UID:6740-1674154800-1674160200@becomethechange.co
SUMMARY:NEW MOON MEDITATION & SOUND HEALING
DESCRIPTION:Join us for an evening of Qigong\, Yoga Nidra Meditation and Sound Healing. \nTogether we will take you on a journey where you will be guided to plant seeds of intention through deepening laters of your awareness. \nThe energy felt from the New Moon combines with complete relaxation and healing sounds\, will help you close the door on the past and usher in a new beginning. \nSign up HERE
URL:https://becomethechange.co/event/new-moon-meditation-sound-healing-3/
LOCATION:Just Be Wellbeing Center\, 102 Al Woushar St - Umm Suqeim\, Dubai\, Dubai\, United Arab Emirates
CATEGORIES:In Person
ATTACH;FMTTYPE=image/jpeg:https://becomethechange.co/wp-content/uploads/2022/09/New-Moon-Image-scaled.jpg
END:VEVENT
END:VCALENDAR