
BEGIN:VCALENDAR
VERSION:2.0
PRODID:-//Become The Change - ECPv5.16.2.1//NONSGML v1.0//EN
CALSCALE:GREGORIAN
METHOD:PUBLISH
X-WR-CALNAME:Become The Change
X-ORIGINAL-URL:https://becomethechange.co
X-WR-CALDESC:Events for Become The Change
REFRESH-INTERVAL;VALUE=DURATION:PT1H
X-Robots-Tag:noindex
X-PUBLISHED-TTL:PT1H
BEGIN:VTIMEZONE
TZID:UTC
BEGIN:STANDARD
TZOFFSETFROM:+0000
TZOFFSETTO:+0000
TZNAME:UTC
DTSTART:20230101T000000
END:STANDARD
END:VTIMEZONE
BEGIN:VEVENT
DTSTART;TZID=UTC:20230106T190000
DTEND;TZID=UTC:20230106T203000
DTSTAMP:20260425T112407
CREATED:20221212T135851Z
LAST-MODIFIED:20221212T135851Z
UID:6560-1673031600-1673037000@becomethechange.co
SUMMARY:FULL MOON FLOW TO CONNECT
DESCRIPTION:Flow to Connect with Amy & Leila under the Full Moon. As the Moon reaches her brightest you will experience three gentle practices combined in one powerful session – Qigong\, Yoga Nidra Meditation and Reconnective Healing EnergyTM. \nLet’s harness the energetic time and allow the Full Moon to nourish our soul. \nSign Up HERE
URL:https://becomethechange.co/event/full-moon-flow-to-connect-2/
LOCATION:Evolve Sports\, 6th Floor\, Control Tower\, Motor City\, Dubai\, United Arab Emirates
CATEGORIES:In Person
ATTACH;FMTTYPE=image/png:https://becomethechange.co/wp-content/uploads/2022/09/Full-Moon.png
END:VEVENT
END:VCALENDAR