
BEGIN:VCALENDAR
VERSION:2.0
PRODID:-//Become The Change - ECPv5.16.2.1//NONSGML v1.0//EN
CALSCALE:GREGORIAN
METHOD:PUBLISH
X-WR-CALNAME:Become The Change
X-ORIGINAL-URL:https://becomethechange.co
X-WR-CALDESC:Events for Become The Change
REFRESH-INTERVAL;VALUE=DURATION:PT1H
X-Robots-Tag:noindex
X-PUBLISHED-TTL:PT1H
BEGIN:VTIMEZONE
TZID:UTC
BEGIN:STANDARD
TZOFFSETFROM:+0000
TZOFFSETTO:+0000
TZNAME:UTC
DTSTART:20220101T000000
END:STANDARD
END:VTIMEZONE
BEGIN:VEVENT
DTSTART;TZID=UTC:20221209T190000
DTEND;TZID=UTC:20221209T203000
DTSTAMP:20260425T130732
CREATED:20221205T123848Z
LAST-MODIFIED:20221205T123848Z
UID:6534-1670612400-1670617800@becomethechange.co
SUMMARY:FLOW TO CONNECT - FULL MOON SPECIAL
DESCRIPTION:Flow to Connect with Amy & Leila under the Full Moon. As the Moon reaches her brightest you will experience three gentle practices combined in one powerful session – Qigong\, Yoga Nidra Meditation and Reconnective Healing EnergyTM. \nLet’s harness the energetic time and allow the Full Moon to nourish our soul. \nMessage here to join
URL:https://becomethechange.co/event/flow-to-connect-full-moon-special/
LOCATION:Just Be Wellbeing Center\, 102 Al Woushar St - Umm Suqeim\, Dubai\, Dubai\, United Arab Emirates
CATEGORIES:In Person
ATTACH;FMTTYPE=image/jpeg:https://becomethechange.co/wp-content/uploads/2022/12/09959ef7-2669-4914-87cd-bc51702983ba.jpg
END:VEVENT
END:VCALENDAR