
BEGIN:VCALENDAR
VERSION:2.0
PRODID:-//Become The Change - ECPv5.16.2.1//NONSGML v1.0//EN
CALSCALE:GREGORIAN
METHOD:PUBLISH
X-ORIGINAL-URL:https://becomethechange.co
X-WR-CALDESC:Events for Become The Change
REFRESH-INTERVAL;VALUE=DURATION:PT1H
X-Robots-Tag:noindex
X-PUBLISHED-TTL:PT1H
BEGIN:VTIMEZONE
TZID:UTC
BEGIN:STANDARD
TZOFFSETFROM:+0000
TZOFFSETTO:+0000
TZNAME:UTC
DTSTART:20220101T000000
END:STANDARD
END:VTIMEZONE
BEGIN:VEVENT
DTSTART;TZID=UTC:20221208T190000
DTEND;TZID=UTC:20221208T200000
DTSTAMP:20260425T130753
CREATED:20221205T123027Z
LAST-MODIFIED:20221205T123321Z
UID:6532-1670526000-1670529600@becomethechange.co
SUMMARY:QIGONG (Adults Only)
DESCRIPTION:Qigong is mindfulness in motion – the art of effortless power – a simple yet powerful exercise that help us to connect to the energy within ourselves\, and all around us (the Earth\, Nature Universe). \nWhen energy circulates it is much easier to meditate and to feel connected to the present moment. \nJoin me at Just Be every Thursday evening to experience this wonderful practice that involves breathwork\, with gentle movements and focused intention. \nContact Us
URL:https://becomethechange.co/event/qigong-adults-only-2/
LOCATION:Just Be Wellbeing Center\, 102 Al Woushar St - Umm Suqeim\, Dubai\, Dubai\, United Arab Emirates
CATEGORIES:In Person
ATTACH;FMTTYPE=image/jpeg:https://becomethechange.co/wp-content/uploads/2022/09/pic1.jpg
END:VEVENT
END:VCALENDAR