
BEGIN:VCALENDAR
VERSION:2.0
PRODID:-//Become The Change - ECPv5.16.2.1//NONSGML v1.0//EN
CALSCALE:GREGORIAN
METHOD:PUBLISH
X-WR-CALNAME:Become The Change
X-ORIGINAL-URL:https://becomethechange.co
X-WR-CALDESC:Events for Become The Change
REFRESH-INTERVAL;VALUE=DURATION:PT1H
X-Robots-Tag:noindex
X-PUBLISHED-TTL:PT1H
BEGIN:VTIMEZONE
TZID:UTC
BEGIN:STANDARD
TZOFFSETFROM:+0000
TZOFFSETTO:+0000
TZNAME:UTC
DTSTART:20220101T000000
END:STANDARD
END:VTIMEZONE
BEGIN:VEVENT
DTSTART;TZID=UTC:20221112T100000
DTEND;TZID=UTC:20221112T140000
DTSTAMP:20260425T144827
CREATED:20221102T053935Z
LAST-MODIFIED:20221102T054658Z
UID:6471-1668247200-1668261600@becomethechange.co
SUMMARY:DISCOVER THE JOY & WONDER WITHIN YOU - HALF DAY RETREAT
DESCRIPTION:Experience includes –\n-A powerfully fluid and smooth Yoga session.\n-An Osho Meditation for the Heart for transforming long standing pain into joy.\n-An Intuitive and personalized Art session.\n-Light refreshments included.
URL:https://becomethechange.co/event/discover-the-joy-wonder-within-you-half-day-retreat/
LOCATION:Just Be Wellbeing Center\, 102 Al Woushar St - Umm Suqeim\, Dubai\, Dubai\, United Arab Emirates
CATEGORIES:In Person
ATTACH;FMTTYPE=image/png:https://becomethechange.co/wp-content/uploads/2022/11/Bliss.png
END:VEVENT
END:VCALENDAR