
BEGIN:VCALENDAR
VERSION:2.0
PRODID:-//Become The Change - ECPv5.16.2.1//NONSGML v1.0//EN
CALSCALE:GREGORIAN
METHOD:PUBLISH
X-ORIGINAL-URL:https://becomethechange.co
X-WR-CALDESC:Events for Become The Change
REFRESH-INTERVAL;VALUE=DURATION:PT1H
X-Robots-Tag:noindex
X-PUBLISHED-TTL:PT1H
BEGIN:VTIMEZONE
TZID:UTC
BEGIN:STANDARD
TZOFFSETFROM:+0000
TZOFFSETTO:+0000
TZNAME:UTC
DTSTART:20220101T000000
END:STANDARD
END:VTIMEZONE
BEGIN:VEVENT
DTSTART;TZID=UTC:20221111T170000
DTEND;TZID=UTC:20221111T180000
DTSTAMP:20260425T144910
CREATED:20221102T055701Z
LAST-MODIFIED:20221102T094124Z
UID:6495-1668186000-1668189600@becomethechange.co
SUMMARY:QIGONG
DESCRIPTION:Qigong is an ancient health and wellness practice that dates thousand of years. It is the art of effortless power. \nIn these weekly Qigong sessions\, you will tap into this power from within you\, with gentle movements\, breathwork and intention. \nYou will learn how to move your Qi (life force energy) and then let it move you. Ending with a guided meditation that will light up your entire being. \nFrom deepening your Qigong practice you will gain energy\, whilst reducing stress; boost your immune system\, whilst activating healing energy; increase longevity\, whilst clearing pain. \nOFFER BRING A FRIEND FOR FREE\nSign up here:\nPayment Link
URL:https://becomethechange.co/event/qigong-19/
LOCATION:Evolve Sports\, 6th Floor\, Control Tower\, Motor City\, Dubai\, United Arab Emirates
CATEGORIES:In Person
ATTACH;FMTTYPE=image/jpeg:https://becomethechange.co/wp-content/uploads/2022/09/pic2.jpg
END:VEVENT
END:VCALENDAR