
BEGIN:VCALENDAR
VERSION:2.0
PRODID:-//Become The Change - ECPv5.16.2.1//NONSGML v1.0//EN
CALSCALE:GREGORIAN
METHOD:PUBLISH
X-WR-CALNAME:Become The Change
X-ORIGINAL-URL:https://becomethechange.co
X-WR-CALDESC:Events for Become The Change
REFRESH-INTERVAL;VALUE=DURATION:PT1H
X-Robots-Tag:noindex
X-PUBLISHED-TTL:PT1H
BEGIN:VTIMEZONE
TZID:UTC
BEGIN:STANDARD
TZOFFSETFROM:+0000
TZOFFSETTO:+0000
TZNAME:UTC
DTSTART:20220101T000000
END:STANDARD
END:VTIMEZONE
BEGIN:VEVENT
DTSTART;TZID=UTC:20221107T133000
DTEND;TZID=UTC:20221107T140000
DTSTAMP:20260425T144725
CREATED:20221102T091504Z
LAST-MODIFIED:20221102T092355Z
UID:6500-1667827800-1667829600@becomethechange.co
SUMMARY:ONLINE QIGONG
DESCRIPTION:Join this online Qigong for a quick 30 minute break and experience instant relaxation\, a feeling of lightness and a burst of energy to help you through your day/week. \nQigong is an exercise which integrates mindfulness. A routine involves breath\, warm up\, stretching\, and flow movements and meditation. \nTry it and feel these incredible benefits – gain longevity\, vitality\, health\, clears stress\, and increase energy. \nSign up here:\nhttps://become-the-change.zbni.co/products/qigong-online
URL:https://becomethechange.co/event/online-qigong/
CATEGORIES:Online
ATTACH;FMTTYPE=image/jpeg:https://becomethechange.co/wp-content/uploads/2022/11/Qigong-Class.jpeg
END:VEVENT
END:VCALENDAR