
BEGIN:VCALENDAR
VERSION:2.0
PRODID:-//Become The Change - ECPv5.16.2.1//NONSGML v1.0//EN
CALSCALE:GREGORIAN
METHOD:PUBLISH
X-WR-CALNAME:Become The Change
X-ORIGINAL-URL:https://becomethechange.co
X-WR-CALDESC:Events for Become The Change
REFRESH-INTERVAL;VALUE=DURATION:PT1H
X-Robots-Tag:noindex
X-PUBLISHED-TTL:PT1H
BEGIN:VTIMEZONE
TZID:UTC
BEGIN:STANDARD
TZOFFSETFROM:+0000
TZOFFSETTO:+0000
TZNAME:UTC
DTSTART:20220101T000000
END:STANDARD
END:VTIMEZONE
BEGIN:VEVENT
DTSTART;TZID=UTC:20221105T170000
DTEND;TZID=UTC:20221105T200000
DTSTAMP:20260425T144725
CREATED:20221102T053451Z
LAST-MODIFIED:20221102T054528Z
UID:6468-1667667600-1667678400@becomethechange.co
SUMMARY:NOURISHING CIRCLE OF LIGHT
DESCRIPTION:This experience includes\n🌟Mindful Movement Qigong session accompanied by the healing frequencies of Sound Bowls.\n🌟Angel Guided Sound Healing Meditation with Singing Bowls and Gong Bath.\n🌟Intuitive Angel Card Reading.\n🌟Plant based food for the soul.  \nLeaving you feeling full of light\, nourished and glowing.
URL:https://becomethechange.co/event/nourishing-circle-of-light/
LOCATION:Just Be Wellbeing Center\, 102 Al Woushar St - Umm Suqeim\, Dubai\, Dubai\, United Arab Emirates
CATEGORIES:In Person
ATTACH;FMTTYPE=image/jpeg:https://becomethechange.co/wp-content/uploads/2022/11/Abundance.jpg
END:VEVENT
END:VCALENDAR