
BEGIN:VCALENDAR
VERSION:2.0
PRODID:-//Become The Change - ECPv5.16.2.1//NONSGML v1.0//EN
CALSCALE:GREGORIAN
METHOD:PUBLISH
X-ORIGINAL-URL:https://becomethechange.co
X-WR-CALDESC:Events for Become The Change
REFRESH-INTERVAL;VALUE=DURATION:PT1H
X-Robots-Tag:noindex
X-PUBLISHED-TTL:PT1H
BEGIN:VTIMEZONE
TZID:UTC
BEGIN:STANDARD
TZOFFSETFROM:+0000
TZOFFSETTO:+0000
TZNAME:UTC
DTSTART:20220101T000000
END:STANDARD
END:VTIMEZONE
BEGIN:VEVENT
DTSTART;TZID=UTC:20221022T110000
DTEND;TZID=UTC:20221022T120000
DTSTAMP:20260425T163910
CREATED:20220930T110824Z
LAST-MODIFIED:20220930T110824Z
UID:6067-1666436400-1666440000@becomethechange.co
SUMMARY:MEN'S TRIBE
DESCRIPTION:Join us for an interactive and engaging group coaching session for men. \nGain tools to relieve stress\, anxiety and tension that arises from every day life. \nLet’s break down barriers together! \nClick here to join Contact Us
URL:https://becomethechange.co/event/mens-tribe/
LOCATION:Just Be Wellbeing Center\, 102 Al Woushar St - Umm Suqeim\, Dubai\, Dubai\, United Arab Emirates
ATTACH;FMTTYPE=image/jpeg:https://becomethechange.co/wp-content/uploads/2022/07/1.jpg
END:VEVENT
END:VCALENDAR