
BEGIN:VCALENDAR
VERSION:2.0
PRODID:-//Become The Change - ECPv5.16.2.1//NONSGML v1.0//EN
CALSCALE:GREGORIAN
METHOD:PUBLISH
X-ORIGINAL-URL:https://becomethechange.co
X-WR-CALDESC:Events for Become The Change
REFRESH-INTERVAL;VALUE=DURATION:PT1H
X-Robots-Tag:noindex
X-PUBLISHED-TTL:PT1H
BEGIN:VTIMEZONE
TZID:UTC
BEGIN:STANDARD
TZOFFSETFROM:+0000
TZOFFSETTO:+0000
TZNAME:UTC
DTSTART:20220101T000000
END:STANDARD
END:VTIMEZONE
BEGIN:VEVENT
DTSTART;TZID=UTC:20221015T100000
DTEND;TZID=UTC:20221015T120000
DTSTAMP:20260425T163936
CREATED:20220930T110445Z
LAST-MODIFIED:20220930T110445Z
UID:6065-1665828000-1665835200@becomethechange.co
SUMMARY:ACTIVE MEDITATION WITH INTUITIVE CARDS
DESCRIPTION:Join us fir a morning of OSHO No-Dimensions Meditation® with Intuitive Cards. \nThis active entering meditation uses breath and a series of coordinated body movements followed by whirling. You are the centre. You become the watcher. \nFrom this place of centeredness we will gain a fresh perspective into the here and now with Intuitive Cards. Diving deep inside to unearth our unique selves. \nClick here to join Contact Us
URL:https://becomethechange.co/event/active-meditation-with-intuitive-cards/
LOCATION:Just Be Wellbeing Center\, 102 Al Woushar St - Umm Suqeim\, Dubai\, Dubai\, United Arab Emirates
ATTACH;FMTTYPE=image/jpeg:https://becomethechange.co/wp-content/uploads/2022/07/3.jpg
END:VEVENT
END:VCALENDAR