
BEGIN:VCALENDAR
VERSION:2.0
PRODID:-//Become The Change - ECPv5.16.2.1//NONSGML v1.0//EN
CALSCALE:GREGORIAN
METHOD:PUBLISH
X-WR-CALNAME:Become The Change
X-ORIGINAL-URL:https://becomethechange.co
X-WR-CALDESC:Events for Become The Change
REFRESH-INTERVAL;VALUE=DURATION:PT1H
X-Robots-Tag:noindex
X-PUBLISHED-TTL:PT1H
BEGIN:VTIMEZONE
TZID:UTC
BEGIN:STANDARD
TZOFFSETFROM:+0000
TZOFFSETTO:+0000
TZNAME:UTC
DTSTART:20220101T000000
END:STANDARD
END:VTIMEZONE
BEGIN:VEVENT
DTSTART;TZID=UTC:20221001T100000
DTEND;TZID=UTC:20221001T120000
DTSTAMP:20260425T162239
CREATED:20220930T105448Z
LAST-MODIFIED:20220930T113322Z
UID:6052-1664618400-1664625600@becomethechange.co
SUMMARY:CHAKRA SOUNDS WITH INTUITIVE CARDS
DESCRIPTION:Join us for a blissful morning of OSHO Chakra Sounds Meditation and Intuitive Cards. \nThis meditation uses vocal sounds to open and connect to the Chakras. Bringing harmony and awareness to them. Each Chakra has it’s own form\, it’s own music\, it’s own tastes\, it’s own smell.  \nThe deeper you move inside yourself\, the \,pre you find the whole world. \nA playfulness will then descend as we explore what is happening in our innermost hearts with Intuitive Cards\, together.  \nContact Us
URL:https://becomethechange.co/event/chakra-sounds-meditation-with-intuitive-cards/
LOCATION:Just Be Wellbeing Center\, 102 Al Woushar St - Umm Suqeim\, Dubai\, Dubai\, United Arab Emirates
ATTACH;FMTTYPE=image/png:https://becomethechange.co/wp-content/uploads/2022/09/Chakras.png
END:VEVENT
END:VCALENDAR