
BEGIN:VCALENDAR
VERSION:2.0
PRODID:-//Become The Change - ECPv5.16.2.1//NONSGML v1.0//EN
CALSCALE:GREGORIAN
METHOD:PUBLISH
X-WR-CALNAME:Become The Change
X-ORIGINAL-URL:https://becomethechange.co
X-WR-CALDESC:Events for Become The Change
REFRESH-INTERVAL;VALUE=DURATION:PT1H
X-Robots-Tag:noindex
X-PUBLISHED-TTL:PT1H
BEGIN:VTIMEZONE
TZID:UTC
BEGIN:STANDARD
TZOFFSETFROM:+0000
TZOFFSETTO:+0000
TZNAME:UTC
DTSTART:20220101T000000
END:STANDARD
END:VTIMEZONE
BEGIN:VEVENT
DTSTART;TZID=UTC:20220910T100000
DTEND;TZID=UTC:20220910T233000
DTSTAMP:20260425T181840
CREATED:20220720T135817Z
LAST-MODIFIED:20220720T140014Z
UID:5834-1662804000-1662852600@becomethechange.co
SUMMARY:Active Meditations
DESCRIPTION:Join Amy as she takes you on a journey through different Active Meditations each week that are dynamic\, playful\, heart felt\, cathartic and transformative. \nActive Meditations help you to move with your emotions to release stuck energy. Bringing the body back to a relaxed harmony. Then continuing the journey inwards to return to your True Self. \nDancing\, Laughter\, Gibberish\, Qigong\, Whirling\, Chakra Balancing\, Shaking and Breathwork can be experienced during an Active Meditation session. \nFree
URL:https://becomethechange.co/event/active-meditations/
ATTACH;FMTTYPE=image/jpeg:https://becomethechange.co/wp-content/uploads/2022/06/1-1.jpg
END:VEVENT
END:VCALENDAR